BEGIN:VCALENDAR
VERSION:2.0
PRODID:-//Mairie de Pibrac - ECPv6.15.17.1//NONSGML v1.0//EN
CALSCALE:GREGORIAN
METHOD:PUBLISH
X-WR-CALNAME:Mairie de Pibrac
X-ORIGINAL-URL:https://ville-pibrac.fr
X-WR-CALDESC:Évènements pour Mairie de Pibrac
REFRESH-INTERVAL;VALUE=DURATION:PT1H
X-Robots-Tag:noindex
X-PUBLISHED-TTL:PT1H
BEGIN:VTIMEZONE
TZID:Europe/Paris
BEGIN:DAYLIGHT
TZOFFSETFROM:+0100
TZOFFSETTO:+0200
TZNAME:CEST
DTSTART:20250330T010000
END:DAYLIGHT
BEGIN:STANDARD
TZOFFSETFROM:+0200
TZOFFSETTO:+0100
TZNAME:CET
DTSTART:20251026T010000
END:STANDARD
BEGIN:DAYLIGHT
TZOFFSETFROM:+0100
TZOFFSETTO:+0200
TZNAME:CEST
DTSTART:20260329T010000
END:DAYLIGHT
BEGIN:STANDARD
TZOFFSETFROM:+0200
TZOFFSETTO:+0100
TZNAME:CET
DTSTART:20261025T010000
END:STANDARD
BEGIN:DAYLIGHT
TZOFFSETFROM:+0100
TZOFFSETTO:+0200
TZNAME:CEST
DTSTART:20270328T010000
END:DAYLIGHT
BEGIN:STANDARD
TZOFFSETFROM:+0200
TZOFFSETTO:+0100
TZNAME:CET
DTSTART:20271031T010000
END:STANDARD
END:VTIMEZONE
BEGIN:VEVENT
DTSTART;TZID=Europe/Paris:20260828T083000
DTEND;TZID=Europe/Paris:20260828T133000
DTSTAMP:20260420T212037
CREATED:20250922T140713Z
LAST-MODIFIED:20250922T140722Z
UID:10000448-1787905800-1787923800@ville-pibrac.fr
SUMMARY:DON DE SANG
DESCRIPTION:L’établissement Français de Sang organise une collecte de sang le vendredi 28 août 2026 de 8h30 à 13h30 à la salle polyvalente (6 Boulevard des Ecoles 31820 Pibrac).
URL:https://ville-pibrac.fr/evenement/don-de-sang-12/
END:VEVENT
END:VCALENDAR