BEGIN:VCALENDAR
VERSION:2.0
PRODID:-//Mairie de Pibrac - ECPv6.15.17.1//NONSGML v1.0//EN
CALSCALE:GREGORIAN
METHOD:PUBLISH
X-WR-CALNAME:Mairie de Pibrac
X-ORIGINAL-URL:https://ville-pibrac.fr
X-WR-CALDESC:Évènements pour Mairie de Pibrac
REFRESH-INTERVAL;VALUE=DURATION:PT1H
X-Robots-Tag:noindex
X-PUBLISHED-TTL:PT1H
BEGIN:VTIMEZONE
TZID:Europe/Paris
BEGIN:DAYLIGHT
TZOFFSETFROM:+0100
TZOFFSETTO:+0200
TZNAME:CEST
DTSTART:20250330T010000
END:DAYLIGHT
BEGIN:STANDARD
TZOFFSETFROM:+0200
TZOFFSETTO:+0100
TZNAME:CET
DTSTART:20251026T010000
END:STANDARD
BEGIN:DAYLIGHT
TZOFFSETFROM:+0100
TZOFFSETTO:+0200
TZNAME:CEST
DTSTART:20260329T010000
END:DAYLIGHT
BEGIN:STANDARD
TZOFFSETFROM:+0200
TZOFFSETTO:+0100
TZNAME:CET
DTSTART:20261025T010000
END:STANDARD
BEGIN:DAYLIGHT
TZOFFSETFROM:+0100
TZOFFSETTO:+0200
TZNAME:CEST
DTSTART:20270328T010000
END:DAYLIGHT
BEGIN:STANDARD
TZOFFSETFROM:+0200
TZOFFSETTO:+0100
TZNAME:CET
DTSTART:20271031T010000
END:STANDARD
END:VTIMEZONE
BEGIN:VEVENT
DTSTART;TZID=Europe/Paris:20260701T100000
DTEND;TZID=Europe/Paris:20260701T120000
DTSTAMP:20260420T192912
CREATED:20260331T141236Z
LAST-MODIFIED:20260331T141242Z
UID:10000598-1782900000-1782907200@ville-pibrac.fr
SUMMARY:PERMANENCE ENTRE VOUS ET NOUS
DESCRIPTION:Tous les premiers mercredis de chaque mois\, venez à la rencontre de vos élus sur le marché de plein vent de 10h à 12h pour échanger sur votre quotidien.
URL:https://ville-pibrac.fr/evenement/permanence-entre-vous-et-nous-4/
END:VEVENT
BEGIN:VEVENT
DTSTART;TZID=Europe/Paris:20260708T163000
DTEND;TZID=Europe/Paris:20260708T170000
DTSTAMP:20260420T192912
CREATED:20260116T150802Z
LAST-MODIFIED:20260116T150806Z
UID:10000540-1783528200-1783530000@ville-pibrac.fr
SUMMARY:LE CHAPOTO
DESCRIPTION:La Médiathèque vous propose comme spectacle jeunesse\, Le Chapoto\, le mercredi 8 juillet 2026 à 16h30 au Petit Théâtre du TMP. \n\n\n\n\nPartir en Livre \n\n\n\nLe Chapoto n’est pas une histoire : c’est une invitation à la fantaisie.Un délicieux instant de spectacle !On est d’abord accueilli par l’agent d’entretien qui aime quand tout est bien PROPRE.Et puis il trouve un nez. \n\n\n\nPetit cirque d’objets d’une trentaine de minutes avec balais\, serpillère\, papier toilette et autres balayettes\, dans ce spectacle l’équipe de la médiathèque propose au jeune public d’assister à une représentation de cirque\, un peu décalé certes\, les parents en jugeront. \n\n\n\nLes objets ont été choisis afin de permettre aux tout-petits de reconnaître cette grande famille du ménage et de l’entretien. \n\n\n\nDu dompteur en passant par l’acrobate\, et le clown. \n\n\n\nRien n’est présenté au hasard… \n\n\n\n\nSpectacle offert par la Ville sur réservation à partir du 8 juin 2026 auprès de la Médiathèque : mediatheque@mairie-pibrac.fr – 05 61 86 09 69
URL:https://ville-pibrac.fr/evenement/le-chapoto/
END:VEVENT
END:VCALENDAR