BEGIN:VCALENDAR
VERSION:2.0
PRODID:-//Mairie de Pibrac - ECPv6.15.17.1//NONSGML v1.0//EN
CALSCALE:GREGORIAN
METHOD:PUBLISH
X-ORIGINAL-URL:https://ville-pibrac.fr
X-WR-CALDESC:Évènements pour Mairie de Pibrac
REFRESH-INTERVAL;VALUE=DURATION:PT1H
X-Robots-Tag:noindex
X-PUBLISHED-TTL:PT1H
BEGIN:VTIMEZONE
TZID:Europe/Paris
BEGIN:DAYLIGHT
TZOFFSETFROM:+0100
TZOFFSETTO:+0200
TZNAME:CEST
DTSTART:20250330T010000
END:DAYLIGHT
BEGIN:STANDARD
TZOFFSETFROM:+0200
TZOFFSETTO:+0100
TZNAME:CET
DTSTART:20251026T010000
END:STANDARD
BEGIN:DAYLIGHT
TZOFFSETFROM:+0100
TZOFFSETTO:+0200
TZNAME:CEST
DTSTART:20260329T010000
END:DAYLIGHT
BEGIN:STANDARD
TZOFFSETFROM:+0200
TZOFFSETTO:+0100
TZNAME:CET
DTSTART:20261025T010000
END:STANDARD
BEGIN:DAYLIGHT
TZOFFSETFROM:+0100
TZOFFSETTO:+0200
TZNAME:CEST
DTSTART:20270328T010000
END:DAYLIGHT
BEGIN:STANDARD
TZOFFSETFROM:+0200
TZOFFSETTO:+0100
TZNAME:CET
DTSTART:20271031T010000
END:STANDARD
END:VTIMEZONE
BEGIN:VEVENT
DTSTART;TZID=Europe/Paris:20260603T100000
DTEND;TZID=Europe/Paris:20260603T120000
DTSTAMP:20260420T174618
CREATED:20260331T141117Z
LAST-MODIFIED:20260331T141122Z
UID:10000597-1780480800-1780488000@ville-pibrac.fr
SUMMARY:PERMANENCE ENTRE VOUS ET NOUS
DESCRIPTION:Tous les premiers mercredis de chaque mois\, venez à la rencontre de vos élus sur le marché de plein vent de 10h à 12h pour échanger sur votre quotidien.
URL:https://ville-pibrac.fr/evenement/permanence-entre-vous-et-nous-3/
END:VEVENT
BEGIN:VEVENT
DTSTART;TZID=Europe/Paris:20260608T173000
DTEND;TZID=Europe/Paris:20260608T203000
DTSTAMP:20260420T174618
CREATED:20250917T124905Z
LAST-MODIFIED:20250917T124906Z
UID:10000434-1780939800-1780950600@ville-pibrac.fr
SUMMARY:ATELIER REPAIR CAFE
DESCRIPTION:Atelier Repair Café le lundi 8 juin 2026 de 17h30 à 20h30 à la salle polyvalente. \n\n\n\nLE REPAIR CAFÉ DE PIBRAC\n\n\n\nQuand : tous les deuxièmes lundis de chaque mois de 17h30 à 20h30Lieu : Salle Polyvalente\, 6 Boulevard des écolesAtelier gratuit et ouvert à tous.Apporter vos objets cassés et apprenez à les réparer. \n\n\n\nAvec notre équipe de bénévoles\, on répare avec vous dans un esprit de bienveillance et de convivialité.Amenez vos petits appareils électroménagers\, outillages\, jouets\, audio et informatiques qui ne fonctionnent plus\, il est peut-être possible d’éviter la déchetterie !Réparez au lieu de jeter ! \n\n\n\nLe Repair Café est fait pour vous si :– Votre appareil ne peut pas être réparé par un professionnel ou la réparation est trop onéreuse.– Vous avez envie de réparer vous-même mais vous ne savez pas comment vous y prendre.– Vous n’avez pas les bons outils.– Vous voulez faire des économies en prolongeant sa durée de vie.– Vous voulez diminuer votre empreinte carbone et les consommations de ressources.– Vous ne voulez pas remplir les déchetteries.– Partager un moment convivial et des savoirs. \n\n\n\nLe Repair Café de Pibrac est une des activités de l’association Pibraction Environnement.
URL:https://ville-pibrac.fr/evenement/atelier-repair-cafe-18/
ATTACH;FMTTYPE=image/jpeg:https://ville-pibrac.fr/wp-content/uploads/2023/08/repair_cafe.jpg
END:VEVENT
BEGIN:VEVENT
DTSTART;TZID=Europe/Paris:20260612T203000
DTEND;TZID=Europe/Paris:20260612T220000
DTSTAMP:20260420T174618
CREATED:20260205T100453Z
LAST-MODIFIED:20260205T100457Z
UID:10000556-1781296200-1781301600@ville-pibrac.fr
SUMMARY:CONFÉRENCE LA PERCEPTION DE LA COULEUR CHEZ LES ANIMAUX
DESCRIPTION:Jardin Nature Pibrac organise une conférence sur la perception de la couleur chez les animaux\, le vendredi 12 juin 2026 à 20h30 à la salle polyvalente et en visio.
URL:https://ville-pibrac.fr/evenement/conference-la-perception-de-la-couleur-chez-les-animaux/
ATTACH;FMTTYPE=image/jpeg:https://ville-pibrac.fr/wp-content/uploads/2026/02/Affiche-12-juin-2026-2.jpg
END:VEVENT
BEGIN:VEVENT
DTSTART;TZID=Europe/Paris:20260616T103000
DTEND;TZID=Europe/Paris:20260616T153000
DTSTAMP:20260420T174618
CREATED:20260205T105022Z
LAST-MODIFIED:20260205T105026Z
UID:10000561-1781605800-1781623800@ville-pibrac.fr
SUMMARY:DÉCHETS VERTS – COLLECTE EN BENNE STATIQUE
DESCRIPTION:Toulouse Métropole met en place une collecte des déchets verts en camion benne statique à Pibrac le mardi 16 juin 2026 de 10h30 à 15h30 sur le parking de la salle polyvalente (Boulevard des Ecoles).Service gratuit sur présentation d’un justificatif de domicile.
URL:https://ville-pibrac.fr/evenement/dechets-verts-collecte-en-benne-statique-6/
ATTACH;FMTTYPE=image/jpeg:https://ville-pibrac.fr/wp-content/uploads/2026/02/16-juin-collecte-benne-statique-scaled.jpg
END:VEVENT
BEGIN:VEVENT
DTSTART;TZID=Europe/Paris:20260627T133000
DTEND;TZID=Europe/Paris:20260627T153000
DTSTAMP:20260420T174618
CREATED:20250925T101357Z
LAST-MODIFIED:20250925T101400Z
UID:10000462-1782567000-1782574200@ville-pibrac.fr
SUMMARY:STAGE SELF DEFENSE POUR FEMMES
DESCRIPTION:L’association Penchak Silat Occitanie organise un stage de self defense pour femmes le samedi 27 juin 2026 de 13h30 à 15h30 au gymnase de la Castanette. \n\n\n\nPlus d’informations : penchaksilatoccitanie@gmail.com
URL:https://ville-pibrac.fr/evenement/stage-self-defense-pour-femmes-10/
ATTACH;FMTTYPE=image/jpeg:https://ville-pibrac.fr/wp-content/uploads/2025/09/Stage-de-self-defense-2025-2026.jpg
END:VEVENT
END:VCALENDAR