BEGIN:VCALENDAR
VERSION:2.0
PRODID:-//Mairie de Pibrac - ECPv6.15.17.1//NONSGML v1.0//EN
CALSCALE:GREGORIAN
METHOD:PUBLISH
X-ORIGINAL-URL:https://ville-pibrac.fr
X-WR-CALDESC:Évènements pour Mairie de Pibrac
REFRESH-INTERVAL;VALUE=DURATION:PT1H
X-Robots-Tag:noindex
X-PUBLISHED-TTL:PT1H
BEGIN:VTIMEZONE
TZID:Europe/Paris
BEGIN:DAYLIGHT
TZOFFSETFROM:+0100
TZOFFSETTO:+0200
TZNAME:CEST
DTSTART:20250330T010000
END:DAYLIGHT
BEGIN:STANDARD
TZOFFSETFROM:+0200
TZOFFSETTO:+0100
TZNAME:CET
DTSTART:20251026T010000
END:STANDARD
BEGIN:DAYLIGHT
TZOFFSETFROM:+0100
TZOFFSETTO:+0200
TZNAME:CEST
DTSTART:20260329T010000
END:DAYLIGHT
BEGIN:STANDARD
TZOFFSETFROM:+0200
TZOFFSETTO:+0100
TZNAME:CET
DTSTART:20261025T010000
END:STANDARD
BEGIN:DAYLIGHT
TZOFFSETFROM:+0100
TZOFFSETTO:+0200
TZNAME:CEST
DTSTART:20270328T010000
END:DAYLIGHT
BEGIN:STANDARD
TZOFFSETFROM:+0200
TZOFFSETTO:+0100
TZNAME:CET
DTSTART:20271031T010000
END:STANDARD
END:VTIMEZONE
BEGIN:VEVENT
DTSTART;TZID=Europe/Paris:20260506T100000
DTEND;TZID=Europe/Paris:20260506T120000
DTSTAMP:20260420T155842
CREATED:20260331T140821Z
LAST-MODIFIED:20260331T140828Z
UID:10000596-1778061600-1778068800@ville-pibrac.fr
SUMMARY:PERMANENCE ENTRE VOUS ET NOUS
DESCRIPTION:Tous les premiers mercredis de chaque mois\, venez à la rencontre de vos élus sur le marché de plein vent de 10h à 12h pour échanger sur votre quotidien.
URL:https://ville-pibrac.fr/evenement/permanence-entre-vous-et-nous-2/
END:VEVENT
BEGIN:VEVENT
DTSTART;TZID=Europe/Paris:20260511T173000
DTEND;TZID=Europe/Paris:20260511T203000
DTSTAMP:20260420T155842
CREATED:20250917T131327Z
LAST-MODIFIED:20250917T131329Z
UID:10000437-1778520600-1778531400@ville-pibrac.fr
SUMMARY:ATELIER REPAIR CAFE
DESCRIPTION:Atelier Repair Café le lundi 11 mai 2026 de 17h30 à 20h30 à la salle polyvalente. \n\n\n\nLE REPAIR CAFÉ DE PIBRAC\n\n\n\nQuand : tous les deuxièmes lundis de chaque mois de 17h30 à 20h30Lieu : Salle Polyvalente\, 6 Boulevard des écolesAtelier gratuit et ouvert à tous.Apporter vos objets cassés et apprenez à les réparer. \n\n\n\nAvec notre équipe de bénévoles\, on répare avec vous dans un esprit de bienveillance et de convivialité.Amenez vos petits appareils électroménagers\, outillages\, jouets\, audio et informatiques qui ne fonctionnent plus\, il est peut-être possible d’éviter la déchetterie !Réparez au lieu de jeter ! \n\n\n\nLe Repair Café est fait pour vous si :– Votre appareil ne peut pas être réparé par un professionnel ou la réparation est trop onéreuse.– Vous avez envie de réparer vous-même mais vous ne savez pas comment vous y prendre.– Vous n’avez pas les bons outils.– Vous voulez faire des économies en prolongeant sa durée de vie.– Vous voulez diminuer votre empreinte carbone et les consommations de ressources.– Vous ne voulez pas remplir les déchetteries.– Partager un moment convivial et des savoirs. \n\n\n\nLe Repair Café de Pibrac est une des activités de l’association Pibraction Environnement.
URL:https://ville-pibrac.fr/evenement/atelier-repair-cafe-21/
ATTACH;FMTTYPE=image/jpeg:https://ville-pibrac.fr/wp-content/uploads/2023/08/repair_cafe.jpg
END:VEVENT
BEGIN:VEVENT
DTSTART;TZID=Europe/Paris:20260520T103000
DTEND;TZID=Europe/Paris:20260520T153000
DTSTAMP:20260420T155842
CREATED:20260205T104727Z
LAST-MODIFIED:20260205T104731Z
UID:10000560-1779273000-1779291000@ville-pibrac.fr
SUMMARY:DÉCHETS VERTS – COLLECTE EN BENNE STATIQUE
DESCRIPTION:Toulouse Métropole met en place une collecte des déchets verts en camion benne statique à Pibrac le mercredi 20 mai 2026 de 10h30 à 15h30 sur le parking de la salle polyvalente (Boulevard des Ecoles).Service gratuit sur présentation d’un justificatif de domicile.
URL:https://ville-pibrac.fr/evenement/dechets-verts-collecte-en-benne-statique-5/
ATTACH;FMTTYPE=image/jpeg:https://ville-pibrac.fr/wp-content/uploads/2026/02/20-mai-collecte-benne-statique-scaled.jpg
END:VEVENT
BEGIN:VEVENT
DTSTART;TZID=Europe/Paris:20260521T203000
DTEND;TZID=Europe/Paris:20260521T220000
DTSTAMP:20260420T155842
CREATED:20260205T100013Z
LAST-MODIFIED:20260205T100017Z
UID:10000555-1779395400-1779400800@ville-pibrac.fr
SUMMARY:CONFÉRENCE SYMBIOSE MYCORHIZIENNE
DESCRIPTION:Jardin Nature Pibrac organise une conférence sur la symbiose Mycorhizienne le jeudi 21 mai 2026 à 20h30 à la salle polyvalente et en visio.
URL:https://ville-pibrac.fr/evenement/conference-symbiose-mycorhizienne/
ATTACH;FMTTYPE=image/jpeg:https://ville-pibrac.fr/wp-content/uploads/2026/02/Affiche-21-mai-2.jpg
END:VEVENT
BEGIN:VEVENT
DTSTART;TZID=Europe/Paris:20260529T140000
DTEND;TZID=Europe/Paris:20260529T190000
DTSTAMP:20260420T155842
CREATED:20250922T140314Z
LAST-MODIFIED:20250922T140336Z
UID:10000447-1780063200-1780081200@ville-pibrac.fr
SUMMARY:DON DE SANG
DESCRIPTION:L’établissement Français de Sang organise une collecte de sang le vendredi 29 mai 2026 de 14h à 19h à la salle polyvalente (6 Boulevard des Ecoles 31820 Pibrac).
URL:https://ville-pibrac.fr/evenement/don-de-sang-11/
END:VEVENT
BEGIN:VEVENT
DTSTART;TZID=Europe/Paris:20260530T133000
DTEND;TZID=Europe/Paris:20260530T153000
DTSTAMP:20260420T155842
CREATED:20250925T101040Z
LAST-MODIFIED:20250925T101043Z
UID:10000461-1780147800-1780155000@ville-pibrac.fr
SUMMARY:STAGE SELF DEFENSE POUR FEMMES
DESCRIPTION:L’association Penchak Silat Occitanie organise un stage de self defense pour femmes le samedi 30 mai 2026 de 13h30 à 15h30 au gymnase de la Castanette. \n\n\n\nPlus d’informations : penchaksilatoccitanie@gmail.com
URL:https://ville-pibrac.fr/evenement/stage-self-defense-pour-femmes-9/
ATTACH;FMTTYPE=image/jpeg:https://ville-pibrac.fr/wp-content/uploads/2025/09/Stage-de-self-defense-2025-2026.jpg
END:VEVENT
BEGIN:VEVENT
DTSTART;TZID=Europe/Paris:20260530T210000
DTEND;TZID=Europe/Paris:20260530T223000
DTSTAMP:20260420T155842
CREATED:20260113T124827Z
LAST-MODIFIED:20260310T142855Z
UID:10000528-1780174800-1780180200@ville-pibrac.fr
SUMMARY:CE SOIR AU LAB’ ART’ – SARAH
DESCRIPTION:Dans ce soir au Lab’Art’\, la MJC Pibrac vous propose\, Sarah\, de John Murrell (Théâtre de l’écluse)\, le samedi 30 mai 2026 à 21h au Lab’Art’. \n\n\n\nSarah Bernhardt est au crépuscule de sa vie. \n\n\n\nRéfugiée dans son manoir de Belle-Ile-en-Mer\, elle sait qu’elle va mourir bientôt\, mais ne peut s’y résigner. Afin de redonner vie à son passé glorieux\, elle tente de dicter ses mémoires à son dévoué secrétaire Georges Pitou\, confident et souvent souffre-douleur. Mais la mémoire lui faisant parfois défaut\, elle va lui demander d’incarner les personnages qui ont peuplé sa vie !  \n\n\n\nDe ce duo insolite se dégage une atmosphère trouble\, entre désespérance et clownerie.  \n\n\n\nC’est vif\, drôle et efficace. \n\n\n\nRéservation auprès de la MJC Pibrac : 05 62 13 50 46 – mjc.pibrac@orange.fr
URL:https://ville-pibrac.fr/evenement/ce-soir-au-lab-art-sarah/
END:VEVENT
END:VCALENDAR