BEGIN:VCALENDAR
VERSION:2.0
PRODID:-//Mairie de Pibrac - ECPv6.15.17.1//NONSGML v1.0//EN
CALSCALE:GREGORIAN
METHOD:PUBLISH
X-WR-CALNAME:Mairie de Pibrac
X-ORIGINAL-URL:https://ville-pibrac.fr
X-WR-CALDESC:Évènements pour Mairie de Pibrac
REFRESH-INTERVAL;VALUE=DURATION:PT1H
X-Robots-Tag:noindex
X-PUBLISHED-TTL:PT1H
BEGIN:VTIMEZONE
TZID:Europe/Paris
BEGIN:DAYLIGHT
TZOFFSETFROM:+0100
TZOFFSETTO:+0200
TZNAME:CEST
DTSTART:20250330T010000
END:DAYLIGHT
BEGIN:STANDARD
TZOFFSETFROM:+0200
TZOFFSETTO:+0100
TZNAME:CET
DTSTART:20251026T010000
END:STANDARD
BEGIN:DAYLIGHT
TZOFFSETFROM:+0100
TZOFFSETTO:+0200
TZNAME:CEST
DTSTART:20260329T010000
END:DAYLIGHT
BEGIN:STANDARD
TZOFFSETFROM:+0200
TZOFFSETTO:+0100
TZNAME:CET
DTSTART:20261025T010000
END:STANDARD
BEGIN:DAYLIGHT
TZOFFSETFROM:+0100
TZOFFSETTO:+0200
TZNAME:CEST
DTSTART:20270328T010000
END:DAYLIGHT
BEGIN:STANDARD
TZOFFSETFROM:+0200
TZOFFSETTO:+0100
TZNAME:CET
DTSTART:20271031T010000
END:STANDARD
END:VTIMEZONE
BEGIN:VEVENT
DTSTART;TZID=Europe/Paris:20260301T000000
DTEND;TZID=Europe/Paris:20260308T235959
DTSTAMP:20260422T120153
CREATED:20260113T104930Z
LAST-MODIFIED:20260113T104934Z
UID:10000524-1772323200-1773014399@ville-pibrac.fr
SUMMARY:STAGE DE COMÉDIE MUSICALE
DESCRIPTION:Figaro & Co propose un stage de comédie musicale du 1er au 8 mars 2026 dans le cadre de son spectacle\, la Bicyclette bleue\, les 14\, 15 \, 20\, 21 et 22 mars et 17 mars (représentation scolaires). Le stage s’adresse aux jeunes de 8 à 14 ans. \n\n\n\nCe spectacle met en scène des comédiens et musiciens professionnels de la compagnie Figaro and Co ainsi que des enfants de la commune de Pibrac et ses environs. Mathilde Ramade\, Anna Ramade et Gilles Ramade proposeront un travail scénique\, chorégraphique\, musical et vocal aboutissant à cinq représentations ouvertes au public et deux représentations devant des scolaires. \n\n\n\nSur inscription : contactfigaroandco@gmail.com
URL:https://ville-pibrac.fr/evenement/stage-de-comedie-musicale/
END:VEVENT
BEGIN:VEVENT
DTSTART;TZID=Europe/Paris:20260302T000000
DTEND;TZID=Europe/Paris:20260306T235959
DTSTAMP:20260422T120153
CREATED:20260226T100320Z
LAST-MODIFIED:20260226T100325Z
UID:10000572-1772409600-1772841599@ville-pibrac.fr
SUMMARY:STAGE DE FOOTBALL
DESCRIPTION:L’US Pibrac Football organise un stage de football du 2 au 6 mars 2026.  \n\n\n\nPlus d’infos : edf.ibrac@gmail.com
URL:https://ville-pibrac.fr/evenement/stage-de-football-2/
ATTACH;FMTTYPE=image/jpeg:https://ville-pibrac.fr/wp-content/uploads/2026/02/Stage-de-football-vac-hiver-2026.jpg
END:VEVENT
BEGIN:VEVENT
DTSTART;TZID=Europe/Paris:20260302T173000
DTEND;TZID=Europe/Paris:20260302T203000
DTSTAMP:20260422T120153
CREATED:20250917T125859Z
LAST-MODIFIED:20251211T100659Z
UID:10000436-1772472600-1772483400@ville-pibrac.fr
SUMMARY:ATELIER REPAIR CAFE
DESCRIPTION:Atelier Repair Café le lundi 2 mars 2026 de 17h30 à 20h30 à la salle polyvalente. \n\n\n\nLE REPAIR CAFÉ DE PIBRAC\n\n\n\nQuand : tous les deuxièmes lundis de chaque mois de 17h30 à 20h30Lieu : Salle Polyvalente\, 6 Boulevard des écolesAtelier gratuit et ouvert à tous.Apporter vos objets cassés et apprenez à les réparer. \n\n\n\nAvec notre équipe de bénévoles\, on répare avec vous dans un esprit de bienveillance et de convivialité.Amenez vos petits appareils électroménagers\, outillages\, jouets\, audio et informatiques qui ne fonctionnent plus\, il est peut-être possible d’éviter la déchetterie !Réparez au lieu de jeter ! \n\n\n\nLe Repair Café est fait pour vous si :– Votre appareil ne peut pas être réparé par un professionnel ou la réparation est trop onéreuse.– Vous avez envie de réparer vous-même mais vous ne savez pas comment vous y prendre.– Vous n’avez pas les bons outils.– Vous voulez faire des économies en prolongeant sa durée de vie.– Vous voulez diminuer votre empreinte carbone et les consommations de ressources.– Vous ne voulez pas remplir les déchetteries.– Partager un moment convivial et des savoirs. \n\n\n\nLe Repair Café de Pibrac est une des activités de l’association Pibraction Environnement.
URL:https://ville-pibrac.fr/evenement/atelier-repair-cafe-20/
ATTACH;FMTTYPE=image/jpeg:https://ville-pibrac.fr/wp-content/uploads/2023/08/repair_cafe.jpg
END:VEVENT
BEGIN:VEVENT
DTSTART;TZID=Europe/Paris:20260303T103000
DTEND;TZID=Europe/Paris:20260303T113000
DTSTAMP:20260422T120153
CREATED:20260227T132604Z
LAST-MODIFIED:20260227T132617Z
UID:10000580-1772533800-1772537400@ville-pibrac.fr
SUMMARY:ATELIER CONTE SCIENTIFIQUE
DESCRIPTION:La Médiathèque organise un atelier conte scientifique des Petits Débrouillards\, le mardi 3 mars 2026 de 10h30 à 11h30. \n\n\n\nLe conte scientifique est un outil idéal pour éveiller la curiosité des enfants de 3 à 6 ans. Il permet d’introduire des expériences scientifiques et d’initier les enfants\, même les plus jeunes\, à la démarche scientifique : l’écoute\, l’observation\, la manipulation\, les hypothèses\, le questionnement\, les essais\, la réflexion\, l’imagination … Cette activité est un élément de transition entre le monde littéraire et le monde scientifique.  \n\n\n\nL’objectif consiste à développer des activités scientifiques simples et ludiques comportant une dimension pédagogique autour du thème des contes. \n\n\n\nDe 3 à 6 ans.Sur inscription auprès de la médiathèque : mediatheque@mairie-pibrac.fr – 05 61 86 09 69
URL:https://ville-pibrac.fr/evenement/atelier-conte-scientifique/
END:VEVENT
BEGIN:VEVENT
DTSTART;TZID=Europe/Paris:20260304T090000
DTEND;TZID=Europe/Paris:20260306T170000
DTSTAMP:20260422T120153
CREATED:20260224T100051Z
LAST-MODIFIED:20260224T100058Z
UID:10000568-1772614800-1772816400@ville-pibrac.fr
SUMMARY:STAGE DE CIRQUE
DESCRIPTION:La MJC Pibrac organise un stage cirque du 4 au 6 mars 2026 de 9h à 17h.
URL:https://ville-pibrac.fr/evenement/stage-de-cirque-2/
ATTACH;FMTTYPE=image/png:https://ville-pibrac.fr/wp-content/uploads/2026/02/stage-cirque-2026.png
END:VEVENT
BEGIN:VEVENT
DTSTART;TZID=Europe/Paris:20260304T093000
DTEND;TZID=Europe/Paris:20260304T170000
DTSTAMP:20260422T120153
CREATED:20260226T103900Z
LAST-MODIFIED:20260226T103908Z
UID:10000574-1772616600-1772643600@ville-pibrac.fr
SUMMARY:LUDOTHÈQUE
DESCRIPTION:La MDC organise une ludothèque le mercredi 4 mars 2026 de 9h30 à 12h et 14h à 17h à la salle Nina.  \n\n\n\nDe 10h00 à 11h00\, venez découvrir l’Heure du conte !Pour petits et grands (à partir de 3 mois)\, venez écouter des histoires animées.L’après-midi\, en partenariat avec la MJC\, venez partager un moment convivial au centre social.Pour petits et grands : jeux\, échanges autour d’un goûter\, ateliers manuels\, …  \n\n\n\nTout est permis\, soyons créatifs ! \n\n\n\nSur inscription auprès de la MDC : mdc@mairie-pibrac.fr
URL:https://ville-pibrac.fr/evenement/ludotheque-2/
END:VEVENT
BEGIN:VEVENT
DTSTART;TZID=Europe/Paris:20260305T093000
DTEND;TZID=Europe/Paris:20260305T140000
DTSTAMP:20260422T120153
CREATED:20260226T104258Z
LAST-MODIFIED:20260226T104301Z
UID:10000575-1772703000-1772719200@ville-pibrac.fr
SUMMARY:ATELIER CUISINE CHINOISE
DESCRIPTION:La Maison des Citoyens organise une atelier de cuisine chinoise pendant ces vacances\, le jeudi 5 mars 2026 de 9h30 à 14h à la salle Nina.  \n\n\n\nA l’occasion du nouvel an chinois\, venez apprendre à préparer des recettes traditionnelles simples\, tout en découvrant les ingrédients\, les gestes et les secrets de cette cuisine riche en couleurs et en parfums.  \n\n\n\nRestez ensuite déguster ces délicieux mets préparés ensemble dans un moment de partage pour voyager sans quitter la cuisine.Sur inscription auprès de la MDC : mdc@mairie-pibrac.fr
URL:https://ville-pibrac.fr/evenement/atelier-cuisine-chinoise/
END:VEVENT
BEGIN:VEVENT
DTSTART;TZID=Europe/Paris:20260305T150000
DTEND;TZID=Europe/Paris:20260305T170000
DTSTAMP:20260422T120153
CREATED:20260226T104738Z
LAST-MODIFIED:20260226T104742Z
UID:10000576-1772722800-1772730000@ville-pibrac.fr
SUMMARY:CRÉATION DE MARIONNETTES ET OMBRES CHINOISES
DESCRIPTION:La Maison des Citoyens organise un atelier de création de marionnettes et ombres chinoises\, le jeudi 5 mars 2026 de 15h à 17h à la salle Nina.  \n\n\n\nDans le prolongement des activités du matin\, venez découvrir la fabrication de marionnettes et d’ombres chinoises lors d’un atelier ludique et créatif.Sur inscription auprès de la MDC : mdc@mairie-pibrac.fr
URL:https://ville-pibrac.fr/evenement/creation-de-marionnettes-et-ombres-chinoises/
END:VEVENT
BEGIN:VEVENT
DTSTART;TZID=Europe/Paris:20260306T150000
DTEND;TZID=Europe/Paris:20260306T170000
DTSTAMP:20260422T120153
CREATED:20260226T105047Z
LAST-MODIFIED:20260226T105050Z
UID:10000577-1772809200-1772816400@ville-pibrac.fr
SUMMARY:INITIATION DANSE TRADITIONNELLE
DESCRIPTION:La Maison des Citoyens organise une initiation de danse traditionnelle le vendredi 6 mars 2026 de 15h à 17h à la salle Nina.  \n\n\n\nVenez découvrir les pas et les rythmes des danses traditionnelles lors de cet atelier convivial et accessible à tous.Sur inscription auprès de la MDC : mdc@mairie-pibrac.fr
URL:https://ville-pibrac.fr/evenement/initiation-danse-traditionnelle/
END:VEVENT
BEGIN:VEVENT
DTSTART;TZID=Europe/Paris:20260306T183000
DTEND;TZID=Europe/Paris:20260306T203000
DTSTAMP:20260422T120153
CREATED:20260226T105405Z
LAST-MODIFIED:20260226T105409Z
UID:10000578-1772821800-1772829000@ville-pibrac.fr
SUMMARY:SOIRÉE CONVIVIALE
DESCRIPTION:La Maison des Citoyens organise une soirée conviviale sur le thème du Carnaval le vendredi 6 mars 2026 de 18h30 à 20h30 à la salle Nina.  \n\n\n\nPour clôturer les vacances\, venez partager un moment festif et convivial. Au programme : repas partage\, atelier maquillage pour les enfants\, musique et bonne humeur seront au rendez-vous.Auberge espagnole : pensez à apporter un plat salé ou sucré à partager.Sur inscription auprès de la MDC : mdc@mairie-pibrac.fr
URL:https://ville-pibrac.fr/evenement/soiree-conviviale/
END:VEVENT
BEGIN:VEVENT
DTSTART;TZID=Europe/Paris:20260306T200000
DTEND;TZID=Europe/Paris:20260306T233000
DTSTAMP:20260422T120153
CREATED:20260122T150502Z
LAST-MODIFIED:20260206T082013Z
UID:10000546-1772827200-1772839800@ville-pibrac.fr
SUMMARY:CONCOURS DE BELOTE
DESCRIPTION:L’ organise Le concours de belote organisé par l’US Pibrac Football le vendredi 6 février 2026 à partir de 20h à la salle polyvalente\, a été reporté au vendredi 6 mars 2026. \n\n\n\nSur inscription : 06 75 84 56 18 – secretariat@uspibracfootball.fr
URL:https://ville-pibrac.fr/evenement/concours-de-belote-2/
END:VEVENT
BEGIN:VEVENT
DTSTART;TZID=Europe/Paris:20260307T100000
DTEND;TZID=Europe/Paris:20260307T130000
DTSTAMP:20260422T120153
CREATED:20260205T101143Z
LAST-MODIFIED:20260205T101147Z
UID:10000557-1772877600-1772888400@ville-pibrac.fr
SUMMARY:STAND INFOS DÉCHETS ALIMENTAIRES
DESCRIPTION:Suite à l’installation de deux bornes pour la collecte des déchets alimentaires sur Pibrac\, les services de Toulouse Métropole seront présents sur le marché du samedi matin devant le TMP\, le samedi 7 mars 2026 de 10h à 13h. Afin de vous informer sur ce nouveau dispositif de collecte des déchets alimentaires et sur son fonctionnement.
URL:https://ville-pibrac.fr/evenement/stand-infos-dechets-alimentaires/
ATTACH;FMTTYPE=image/jpeg:https://ville-pibrac.fr/wp-content/uploads/2026/02/251028_RS_3-scaled.jpg
END:VEVENT
BEGIN:VEVENT
DTSTART;TZID=Europe/Paris:20260308T100000
DTEND;TZID=Europe/Paris:20260308T130000
DTSTAMP:20260422T120153
CREATED:20260305T100916Z
LAST-MODIFIED:20260305T100921Z
UID:10000583-1772964000-1772974800@ville-pibrac.fr
SUMMARY:STAGE SELF DEFENSE POUR FEMMES
DESCRIPTION:À l’occasion de la Journée Internationale des Droits des Femmes\, le Penchak Silat Occitanie organise un stage spécial self-défense pour femmes le dimanche 8 mars 2026 de 10h à 13h au complexe sportif de la Castanette.
URL:https://ville-pibrac.fr/evenement/stage-self-defense-pour-femmes-13/
ATTACH;FMTTYPE=image/png:https://ville-pibrac.fr/wp-content/uploads/2026/03/image.png
END:VEVENT
BEGIN:VEVENT
DTSTART;TZID=Europe/Paris:20260314T100000
DTEND;TZID=Europe/Paris:20260314T120000
DTSTAMP:20260422T120153
CREATED:20260130T135718Z
LAST-MODIFIED:20260130T135723Z
UID:10000548-1773482400-1773489600@ville-pibrac.fr
SUMMARY:VISITE GUIDÉE DE PIBRAC
DESCRIPTION:L’Office de Tourisme de Toulouse organise une visité guidée de Pibrac le samedi 14 mars 2026 de 10h à 12h. Départ devant la mairie.
URL:https://ville-pibrac.fr/evenement/visite-guidee-de-pibrac-3/
END:VEVENT
BEGIN:VEVENT
DTSTART;TZID=Europe/Paris:20260314T130000
DTEND;TZID=Europe/Paris:20260314T190000
DTSTAMP:20260422T120153
CREATED:20260130T140037Z
LAST-MODIFIED:20260130T140041Z
UID:10000549-1773493200-1773514800@ville-pibrac.fr
SUMMARY:MASTER CLASS CORPS ET VOIX 
DESCRIPTION:Atelier de chant chorale autour du blues\, gospel\, soul et chant vibratoire organisé par l’association Parole et Musique le samedi 14 mars 2026 de 13h à 19h au gymnase de Coustayrac.
URL:https://ville-pibrac.fr/evenement/master-class-corps-et-voix-6/
END:VEVENT
BEGIN:VEVENT
DTSTART;TZID=Europe/Paris:20260314T133000
DTEND;TZID=Europe/Paris:20260314T153000
DTSTAMP:20260422T120153
CREATED:20260130T141126Z
LAST-MODIFIED:20260130T141133Z
UID:10000551-1773495000-1773502200@ville-pibrac.fr
SUMMARY:STAGE SELF DEFENSE POUR FEMMES
DESCRIPTION:L’association Penchak Silat Occitanie organise un stage de self defense pour femmes le samedi 14 mars 2026 de 13h30 à 15h30 au gymnase de la Castanette. \n\n\n\nPlus d’informations : penchaksilatoccitanie@gmail.com
URL:https://ville-pibrac.fr/evenement/stage-self-defense-pour-femmes-12/
ATTACH;FMTTYPE=image/jpeg:https://ville-pibrac.fr/wp-content/uploads/2025/09/Stage-de-self-defense-2025-2026.jpg
END:VEVENT
BEGIN:VEVENT
DTSTART;TZID=Europe/Paris:20260314T203000
DTEND;TZID=Europe/Paris:20260322T170000
DTSTAMP:20260422T120153
CREATED:20260116T144525Z
LAST-MODIFIED:20260116T144528Z
UID:10000534-1773520200-1774198800@ville-pibrac.fr
SUMMARY:LA BICYCLETTE BLEUE
DESCRIPTION:Le TMP accueille la compagnie Figaro & Co avec leur spectacle\, La Bicyclette Bleue\, du 14 au 22 mars 2026. \n\n\n\nDates :– samedi 14 mars 2026 à 20h30– dimanche 15 mars 2026 à 16h00– vendredi 20 mars 2026 à 20h30– samedi 21 mars 2026 à 20h30– dimanche 22 mars 2026 à 16h00 \n\n\n\n\nD’après le roman de Régine Deforges \n\n\n\nUne fresque romanesque au cœur de la guerre\, de l’exode et des passions tourmentées. \n\n\n\nÉté 1939. Léa Delmas\, 17 ans\, mène une vie paisible et insouciante dans la campagne Bordelaise. \n\n\n\nTout s’écroule lorsque son grand amour décide d’épouser sa cousine Camille. \n\n\n\nLes fiançailles sont annoncées en même temps que la seconde guerre mondiale et les Allemands s’installent dans la maison familiale. \n\n\n\nLéa n’aura d’autre choix que d’accepter ce cruel destin\, mais son amour ne faiblit pas. \n\n\n\nAu péril de sa vie\, elle entre dans la Résistance… \n\n\n\nQuand les espoirs brûlants d’une jeunesse candide se trouvent contrariés… \n\n\n\nAdapté à l’écran avec Laetitia Casta dans le rôle-titre\, Mathilde Ramade décide de revisiter “La Bicyclette bleue”\, pour la scène en pièce musicale.
URL:https://ville-pibrac.fr/evenement/la-bicyclette-bleue/
ATTACH;FMTTYPE=image/jpeg:https://ville-pibrac.fr/wp-content/uploads/2026/01/Aff-la-bicyclette-bleue-W.jpg
END:VEVENT
BEGIN:VEVENT
DTSTART;TZID=Europe/Paris:20260314T210000
DTEND;TZID=Europe/Paris:20260314T223000
DTSTAMP:20260422T120153
CREATED:20260113T110224Z
LAST-MODIFIED:20260310T131323Z
UID:10000526-1773522000-1773527400@ville-pibrac.fr
SUMMARY:CE SOIR AU LAB’ ART’ - CYRANO DE BERGERAC
DESCRIPTION:Dans ce soir au Lab’Art’\, la MJC Pibrac vous propose\, Cyrano de Bergerac\, Compagnie A fleur de mots (Toulouse)\, le samedi 14 mars 2026 à 21h au Lab’Art’. \n\n\n\nDescriptif :« Coup de Théâtre » a monté Cyrano de Bergerac dans une adaptation intimiste et originale à trois comédien(nes) où la sensibilité et la fragilité des personnages sont mises en valeur. \n\n\n\nLa couleur noire des costumes contemporains et du décor très épuré\, soutenue par un jeu de lumière tout en douceur\, permet de concentrer le regard des spectateurs sur les visages et les mains. \n\n\n\nCe choix de mise en scène et de jeu d’acteur nous permet de nous recentrer sur ce qui nous tient à cœur de partager avec le public : l’émotion. \n\n\n\nRéservation auprès de la MJC Pibrac : 05 62 13 50 46 – mjc.pibrac@orange.fr
URL:https://ville-pibrac.fr/evenement/ce-soir-au-lab-art-jusqua-nen-plus-pouvoir/
END:VEVENT
BEGIN:VEVENT
DTSTART;TZID=Europe/Paris:20260315T170000
DTEND;TZID=Europe/Paris:20260315T180000
DTSTAMP:20260422T120153
CREATED:20260304T094403Z
LAST-MODIFIED:20260304T094422Z
UID:10000582-1773594000-1773597600@ville-pibrac.fr
SUMMARY:CONCERT ORGUE ET FLUTE A BEC
DESCRIPTION:Concert orgue et flûte à bec le dimanche 15 mars 2026 à 17h à l’église de Pibrac.
URL:https://ville-pibrac.fr/evenement/concert-orgue-et-flute-a-bec/
END:VEVENT
BEGIN:VEVENT
DTSTART;TZID=Europe/Paris:20260317T103000
DTEND;TZID=Europe/Paris:20260317T153000
DTSTAMP:20260422T120153
CREATED:20260205T104201Z
LAST-MODIFIED:20260205T104205Z
UID:10000558-1773743400-1773761400@ville-pibrac.fr
SUMMARY:DÉCHETS VERTS – COLLECTE EN BENNE STATIQUE
DESCRIPTION:Toulouse Métropole met en place une collecte des déchets verts en camion benne statique à Pibrac le mardi 17 mars 2026 de 10h30 à 15h30 sur le parking de la salle polyvalente (Boulevard des Ecoles).Service gratuit sur présentation d’un justificatif de domicile.
URL:https://ville-pibrac.fr/evenement/dechets-verts-collecte-en-benne-statique-3/
ATTACH;FMTTYPE=image/jpeg:https://ville-pibrac.fr/wp-content/uploads/2026/02/17-mars-collecte-benne-statique-scaled.jpg
END:VEVENT
BEGIN:VEVENT
DTSTART;TZID=Europe/Paris:20260320T190000
DTEND;TZID=Europe/Paris:20260320T233000
DTSTAMP:20260422T120153
CREATED:20260318T105148Z
LAST-MODIFIED:20260318T105156Z
UID:10000595-1774033200-1774049400@ville-pibrac.fr
SUMMARY:LOTO
DESCRIPTION:L’Amicale Laïque du Bois de la Barthe organise un loto le vendredi 20 mars 2026 à partir de 19h au gymnase de la Castanette.
URL:https://ville-pibrac.fr/evenement/loto-10/
ATTACH;FMTTYPE=image/png:https://ville-pibrac.fr/wp-content/uploads/2026/03/image-3.png
END:VEVENT
BEGIN:VEVENT
DTSTART;TZID=Europe/Paris:20260321T193000
DTEND;TZID=Europe/Paris:20260321T233000
DTSTAMP:20260422T120153
CREATED:20260227T140508Z
LAST-MODIFIED:20260227T140513Z
UID:10000581-1774121400-1774135800@ville-pibrac.fr
SUMMARY:SOIRÉE DANSANTE
DESCRIPTION:Le club Pibrac Basket organise une soirée dansante le samedi 21 mars 2026 à partir de 19h30 à la salle polyvalente.
URL:https://ville-pibrac.fr/evenement/soiree-dansante/
ATTACH;FMTTYPE=image/jpeg:https://ville-pibrac.fr/wp-content/uploads/2026/02/soiree-dansante-basket.jpg
END:VEVENT
BEGIN:VEVENT
DTSTART;TZID=Europe/Paris:20260322T093000
DTEND;TZID=Europe/Paris:20260322T170000
DTSTAMP:20260422T120153
CREATED:20260120T121031Z
LAST-MODIFIED:20260318T104136Z
UID:10000543-1774171800-1774198800@ville-pibrac.fr
SUMMARY:BOURSE AUX VÉLOS
DESCRIPTION:Pibraction Environnement organise une Bourse aux Vélos le dimanche 22 mars 2026 de 9h30 à 17h à la salle polyvalente.
URL:https://ville-pibrac.fr/evenement/bourse-aux-velos/
ATTACH;FMTTYPE=image/jpeg:https://ville-pibrac.fr/wp-content/uploads/2026/01/WhatsApp-Image-2026-03-13-at-15.19.28-002.jpeg
END:VEVENT
BEGIN:VEVENT
DTSTART;TZID=Europe/Paris:20260322T110000
DTEND;TZID=Europe/Paris:20260322T120000
DTSTAMP:20260422T120153
CREATED:20260130T140711Z
LAST-MODIFIED:20260130T140718Z
UID:10000550-1774177200-1774180800@ville-pibrac.fr
SUMMARY:COMMÉMORATION
DESCRIPTION:La Journée nationale du souvenir et de recueillement à la mémoire des victimes civiles et militaires de la guerre d’Algérie et des combats en Tunisie et au Maroc aura lieu le dimanche 22 mars 2026 à 11h au Monument aux Morts à Pibrac\, suivie d’un moment de convivialité en salle du Conseil municipal.
URL:https://ville-pibrac.fr/evenement/commemoration-4/
END:VEVENT
BEGIN:VEVENT
DTSTART;TZID=Europe/Paris:20260323T000000
DTEND;TZID=Europe/Paris:20260327T235959
DTSTAMP:20260422T120153
CREATED:20260211T093850Z
LAST-MODIFIED:20260306T105935Z
UID:10000566-1774224000-1774655999@ville-pibrac.fr
SUMMARY:SEMAINE NATIONALE DE LA PETITE ENFANCE
DESCRIPTION:Le Relais Petite Enfance participe à la Semaine Nationale de la Petite Enfance qui se déroulera du 23 au 27 mars 2026 sur Pibrac. \n\n\n\nAu programme  : \n\n\n\n\n\n\n\nProgramme Semaine Nationale de la Petite Enfance 2026Télécharger
URL:https://ville-pibrac.fr/evenement/semaine-nationale-de-la-petite-enfance-3/
ATTACH;FMTTYPE=image/jpeg:https://ville-pibrac.fr/wp-content/uploads/2026/02/Programme-de-la-Semaine-de-la-Petite-Enfance-2026-Famille2.jpg
END:VEVENT
BEGIN:VEVENT
DTSTART;TZID=Europe/Paris:20260323T140000
DTEND;TZID=Europe/Paris:20260323T190000
DTSTAMP:20260422T120153
CREATED:20250922T135738Z
LAST-MODIFIED:20250922T135740Z
UID:10000446-1774274400-1774292400@ville-pibrac.fr
SUMMARY:DON DE SANG
DESCRIPTION:L’établissement Français de Sang organise une collecte de sang le lundi 23 mars 2026 de 14h à 19h à la salle polyvalente (6 Boulevard des Ecoles 31820 Pibrac).
URL:https://ville-pibrac.fr/evenement/don-de-sang-10/
END:VEVENT
BEGIN:VEVENT
DTSTART;TZID=Europe/Paris:20260324T143000
DTEND;TZID=Europe/Paris:20260324T170000
DTSTAMP:20260422T120153
CREATED:20260130T141924Z
LAST-MODIFIED:20260130T141933Z
UID:10000552-1774362600-1774371600@ville-pibrac.fr
SUMMARY:LOTO
DESCRIPTION:Le club des ainés\, Rayon de Soleil\, organise un loto le mardi 24 mars 2026 de 14h30 à 17h à la salle polyvalente.
URL:https://ville-pibrac.fr/evenement/loto-7/
END:VEVENT
BEGIN:VEVENT
DTSTART;TZID=Europe/Paris:20260326T203000
DTEND;TZID=Europe/Paris:20260326T220000
DTSTAMP:20260422T120153
CREATED:20260130T142419Z
LAST-MODIFIED:20260305T142812Z
UID:10000553-1774557000-1774562400@ville-pibrac.fr
SUMMARY:CONFÉRENCE BIODIVERSITÉ DES PRAIRIES ANCIENNES
DESCRIPTION:Jardin Nature Pibrac organise une conférence sur la biodiversité des prairies anciennes\, animée par André Pornon\, ingénieur de recherche au Centre de Recherche sur la Biodiversité et l’Environnement (CRBE)\, le jeudi 26 mars 2026 à 20h30 à la salle polyvalente et en visio. \n\n\n\n \n\n\n\nUne prairie ancienne est un champ qui a été préservé de toute l’intervention. En Europe pendant des siècles\, les prairies ont servi aux pâturages et à la production de foin. Ces milieux présentent la plus grande diversité végétale des zones tempérées et sont la maison des pollinisateurs : abeilles\, fourmis\, bourdons\, guêpes..… \n\n\n\nAu cours du siècle dernier\, l’intensification agricole a entraîné une forte diminution des prairies naturelles (en France\, perte de la superficie d’un tiers entre 1967 et 2007). \n\n\n\nUne équipe de chercheurs du CRBE et du Centre de recherches sur la cognition animale (CRCA-CBI\, CNRS/UT3) ont mis en évidence un effet positif de l’âge des prairies des vallées et côteaux de Gascogne sur la santé et le microbiote des pollinisateurs. Ces travaux soulignent l’urgence de protéger les rares très anciennes prairies encore existantes. \n\n\n\nPlus de détails sur https://jardinnaturepibrac.org
URL:https://ville-pibrac.fr/evenement/conference-biodiversite-des-prairies-anciennes/
ATTACH;FMTTYPE=image/png:https://ville-pibrac.fr/wp-content/uploads/2026/01/Conference-du-26-03-2026.png
END:VEVENT
BEGIN:VEVENT
DTSTART;TZID=Europe/Paris:20260328T100000
DTEND;TZID=Europe/Paris:20260328T120000
DTSTAMP:20260422T120153
CREATED:20260227T132039Z
LAST-MODIFIED:20260227T132049Z
UID:10000579-1774692000-1774699200@ville-pibrac.fr
SUMMARY:ATELIER THÉÂTRE PARENTS/ENFANTS
DESCRIPTION:L’association Scaramouche organise un atelier théâtre parents/enfants le samedi 28 novembre 2025 de 10h à 12h à la salle de danse (Boulevard des Ecoles). \n\n\n\nInformation et inscription : scaramouche.pibrac@gmail.com – 06 63 31 74 82 
URL:https://ville-pibrac.fr/evenement/atelier-theatre-parents-enfants-4/
END:VEVENT
BEGIN:VEVENT
DTSTART;TZID=Europe/Paris:20260328T200000
DTEND;TZID=Europe/Paris:20260328T213000
DTSTAMP:20260422T120153
CREATED:20260116T144930Z
LAST-MODIFIED:20260116T144933Z
UID:10000535-1774728000-1774733400@ville-pibrac.fr
SUMMARY:LES ÉTOILES DE LA DANSE
DESCRIPTION:Le TMP accueille le Ballet de l’Opéra national du Capitole de Toulouse\, Les étoiles de la danse\, samedi 28 mars 2026 à 20h. \n\n\n\n\nLe Ballet de l’Opéra national du Capitole se produit régulièrement en tournée\, en France et à l’international\, défendant un large répertoire qui va à la rencontre de tous les publics. \n\n\n\nEn 2024/2025\, il a été invité sur les prestigieuses scènes de l’Opéra-Comique à Paris et du Liceu de Barcelone. \n\n\n\nIl est également très présent dans les théâtres de la région Occitanie\, où le programme Etoiles de la danse rencontre un très vif succès. \n\n\n\nCe programme de gala a été conçu afin de faire découvrir au public la danse classique\, où le Ballet toulousain brille par sa virtuosité et la qualité de ses interprètes. \n\n\n\nEn préambule\, les étoiles et solistes vous convient dans l’intimité d’une classe de danse\, pour vous faire partager le quotidien du danseur classique et l’exigence de sa préparation. \n\n\n\nSuivront deux variations pour soliste et un pas de deux extraits des Sylphides de Mikhaïl Fokine\, sur des pièces de Chopin\, hommage du chorégraphe russe au ballet romantique français du XIXème siècle et à sa ballerine emblématique\, Marie Taglioni. \n\n\n\nAvant le Finale\, vous pourrez applaudir un grand pas de deux du répertoire\, un feu d’artifices où technique et virtuosité rencontrent musicalité et raffinement extrême.
URL:https://ville-pibrac.fr/evenement/les-etoiles-de-la-danse/
ATTACH;FMTTYPE=image/jpeg:https://ville-pibrac.fr/wp-content/uploads/2026/01/W-Affiche-Ballet-02.jpg
END:VEVENT
END:VCALENDAR