BEGIN:VCALENDAR
VERSION:2.0
PRODID:-//Mairie de Pibrac - ECPv6.15.17.1//NONSGML v1.0//EN
CALSCALE:GREGORIAN
METHOD:PUBLISH
X-WR-CALNAME:Mairie de Pibrac
X-ORIGINAL-URL:https://ville-pibrac.fr
X-WR-CALDESC:Évènements pour Mairie de Pibrac
REFRESH-INTERVAL;VALUE=DURATION:PT1H
X-Robots-Tag:noindex
X-PUBLISHED-TTL:PT1H
BEGIN:VTIMEZONE
TZID:Europe/Paris
BEGIN:DAYLIGHT
TZOFFSETFROM:+0100
TZOFFSETTO:+0200
TZNAME:CEST
DTSTART:20240331T010000
END:DAYLIGHT
BEGIN:STANDARD
TZOFFSETFROM:+0200
TZOFFSETTO:+0100
TZNAME:CET
DTSTART:20241027T010000
END:STANDARD
BEGIN:DAYLIGHT
TZOFFSETFROM:+0100
TZOFFSETTO:+0200
TZNAME:CEST
DTSTART:20250330T010000
END:DAYLIGHT
BEGIN:STANDARD
TZOFFSETFROM:+0200
TZOFFSETTO:+0100
TZNAME:CET
DTSTART:20251026T010000
END:STANDARD
BEGIN:DAYLIGHT
TZOFFSETFROM:+0100
TZOFFSETTO:+0200
TZNAME:CEST
DTSTART:20260329T010000
END:DAYLIGHT
BEGIN:STANDARD
TZOFFSETFROM:+0200
TZOFFSETTO:+0100
TZNAME:CET
DTSTART:20261025T010000
END:STANDARD
BEGIN:DAYLIGHT
TZOFFSETFROM:+0100
TZOFFSETTO:+0200
TZNAME:CEST
DTSTART:20270328T010000
END:DAYLIGHT
BEGIN:STANDARD
TZOFFSETFROM:+0200
TZOFFSETTO:+0100
TZNAME:CET
DTSTART:20271031T010000
END:STANDARD
END:VTIMEZONE
BEGIN:VEVENT
DTSTART;TZID=Europe/Paris:20251231T200000
DTEND;TZID=Europe/Paris:20260101T020000
DTSTAMP:20260422T142558
CREATED:20251104T085439Z
LAST-MODIFIED:20251104T085458Z
UID:10000502-1767211200-1767232800@ville-pibrac.fr
SUMMARY:DINER SPECTACLE DU NOUVEL AN
DESCRIPTION:La compagnie Figaro and Co vous propose un dîner-spectacle\, Le Cabaret de Monsieur Dame\,  pour fêter la nouvelle année le mercredi 31 décembre 2025 à 20h dans la salle du petit-théâtre.Librement inspirée de Victor Victoria\, un spectacle ponctué de gags en tout genres et de numéros de music-hall.
URL:https://ville-pibrac.fr/evenement/diner-spectacle-du-nouvel-an/
ATTACH;FMTTYPE=image/jpeg:https://ville-pibrac.fr/wp-content/uploads/2025/11/diner-spectacle-Figaor-Co.jpg
END:VEVENT
BEGIN:VEVENT
DTSTART;TZID=Europe/Paris:20260105T000000
DTEND;TZID=Europe/Paris:20260116T235959
DTSTAMP:20260422T142558
CREATED:20251013T092715Z
LAST-MODIFIED:20251015T065920Z
UID:10000482-1767571200-1768607999@ville-pibrac.fr
SUMMARY:EXPO LE LIVRE GÉANT DE LA LAÏCITÉ
DESCRIPTION:L’exposition Le livre géant de la Laïcité sera visible à la Maison des Citoyens du 5 au 16 janvier 2026.Cette exposition porte sur le principe de laïcité en rappelant les bases et explique pourquoi c’est un des éléments indispensables de vivre-ensemble.Dans les différents panneaux de cette exposition l’humour est au rendez-vous afin d’appréhender ce principe parfois complexe et comprendre de manière simple le droit en vigueur\, son histoire et son évolution. \n\n\n\nL’expo est destinée à tous les publics.Pour organiser des visites de groupe\, contactez le 06 77 31 12 28.Avec le soutien de la Mairie de Toulouse.
URL:https://ville-pibrac.fr/evenement/expo-le-livre-geant-de-la-laicite/
ATTACH;FMTTYPE=image/jpeg:https://ville-pibrac.fr/wp-content/uploads/2025/10/Post-Insta-Le-livre-geant-de-la-laicite-scaled.jpg
END:VEVENT
BEGIN:VEVENT
DTSTART;TZID=Europe/Paris:20260110T110000
DTEND;TZID=Europe/Paris:20260110T130000
DTSTAMP:20260422T142558
CREATED:20251219T135217Z
LAST-MODIFIED:20251219T135313Z
UID:10000508-1768042800-1768050000@ville-pibrac.fr
SUMMARY:CÉRÉMONIE DES VŒUX
DESCRIPTION:La Cérémonie des Vœux se tiendra le samedi 10 janvier 2026 à 11h au TMP.
URL:https://ville-pibrac.fr/evenement/ceremonie-des-voeux-2/
ATTACH;FMTTYPE=image/jpeg:https://ville-pibrac.fr/wp-content/uploads/2025/12/carte-de-voeux-2026-scaled.jpg
END:VEVENT
BEGIN:VEVENT
DTSTART;TZID=Europe/Paris:20260110T130000
DTEND;TZID=Europe/Paris:20260110T190000
DTSTAMP:20260422T142558
CREATED:20250917T074920Z
LAST-MODIFIED:20250917T074923Z
UID:10000429-1768050000-1768071600@ville-pibrac.fr
SUMMARY:MASTER CLASS CORPS ET VOIX 
DESCRIPTION:Atelier de chant chorale autour du blues\, gospel\, soul et chant vibratoire organisé par l’association Parole et Musique le samedi 10 janvier 2026 de 13h à 19h au gymnase de Coustayrac.
URL:https://ville-pibrac.fr/evenement/master-class-corps-et-voix-4/
END:VEVENT
BEGIN:VEVENT
DTSTART;TZID=Europe/Paris:20260112T173000
DTEND;TZID=Europe/Paris:20260112T203000
DTSTAMP:20260422T142558
CREATED:20250917T124659Z
LAST-MODIFIED:20250917T124701Z
UID:10000433-1768239000-1768249800@ville-pibrac.fr
SUMMARY:ATELIER REPAIR CAFE
DESCRIPTION:Atelier Repair Café le lundi 12 janvier 2026 de 17h30 à 20h30 à la salle polyvalente. \n\n\n\nLE REPAIR CAFÉ DE PIBRAC\n\n\n\nQuand : tous les deuxièmes lundis de chaque mois de 17h30 à 20h30Lieu : Salle Polyvalente\, 6 Boulevard des écolesAtelier gratuit et ouvert à tous.Apporter vos objets cassés et apprenez à les réparer. \n\n\n\nAvec notre équipe de bénévoles\, on répare avec vous dans un esprit de bienveillance et de convivialité.Amenez vos petits appareils électroménagers\, outillages\, jouets\, audio et informatiques qui ne fonctionnent plus\, il est peut-être possible d’éviter la déchetterie !Réparez au lieu de jeter ! \n\n\n\nLe Repair Café est fait pour vous si :– Votre appareil ne peut pas être réparé par un professionnel ou la réparation est trop onéreuse.– Vous avez envie de réparer vous-même mais vous ne savez pas comment vous y prendre.– Vous n’avez pas les bons outils.– Vous voulez faire des économies en prolongeant sa durée de vie.– Vous voulez diminuer votre empreinte carbone et les consommations de ressources.– Vous ne voulez pas remplir les déchetteries.– Partager un moment convivial et des savoirs. \n\n\n\nLe Repair Café de Pibrac est une des activités de l’association Pibraction Environnement.
URL:https://ville-pibrac.fr/evenement/atelier-repair-cafe-17/
END:VEVENT
BEGIN:VEVENT
DTSTART;TZID=Europe/Paris:20260114T180000
DTEND;TZID=Europe/Paris:20260114T190000
DTSTAMP:20260422T142558
CREATED:20260112T150131Z
LAST-MODIFIED:20260112T150231Z
UID:10000511-1768413600-1768417200@ville-pibrac.fr
SUMMARY:CAFÉ VINYLES
DESCRIPTION:La Maison des Citoyens vous propose l’atelier Café Vinyles le mercredi 14 janvier 2026 de 18h à 19h à la salle Nina. \n\n\n\nChaque mois au centre social\, « Cafés Vinyles » vous propose un atelier de découverte musicale. Le principe est simple : un(e) invité(e) apporte un vinyle ou un CD de son choix\, fait écouter un morceau qui lui tient à cœur\, puis évoque ce qu’il signifie pour lui/elle. \n\n\n\nVous pouvez :Être l’invité du mois\, et apporter un disque/vinyle/CD pour le faire découvrir au groupe (dans ce cas merci de prendre contact avec la Maison des Citoyens) ou simplement venir écouter\, échanger\, et profiter de ce moment.
URL:https://ville-pibrac.fr/evenement/cafe-vinyles-4/
END:VEVENT
BEGIN:VEVENT
DTSTART;TZID=Europe/Paris:20260116T203000
DTEND;TZID=Europe/Paris:20260116T214500
DTSTAMP:20260422T142558
CREATED:20260112T145550Z
LAST-MODIFIED:20260112T145602Z
UID:10000510-1768595400-1768599900@ville-pibrac.fr
SUMMARY:NUIT DE LA LECTURE JUSTE UNE FILLE
DESCRIPTION:Dans le cadre de la nuit de la lecture\, la Médiathèque accueille Juste une fille par la Cie l’Espante\, le vendredi 16 janvier à 20h30 dans la salle du petit théâtre.  \n\n\n\nSur inscription à partir de 14 ans : mediatheque@mairie-pibrac.fr – 05 61 86 09 69 \n\n\n\n\nTout commence par une naissance. « Qu’est-ce que c’est ?  \n\n\n\n– C’est raté. »  \n\n\n\nAinsi débute la vie de Laurence Barraqué\, née au sein d’une famille où l’on aurait préféré un garçon. Son existence de femme – des années 60 à 2000 – ponctuée par les chansons d’Anne Sylvestre nous invite à nous interroger encore : « C’est quoi être une fille\, une femme\, une mère aujourd’hui ?»  \n\n\n\nLe défi d’éduquer\, de transmettre et de s’épanouir dans une société patriarcale\, le rapport au corps\, l’assignation genrée\, le droit à l’IVG\, le viol\, la maternité… autant de sujets intimes et délicats\, difficiles à aborder frontalement.  \n\n\n\nLa simplicité du dispositif scénique\, la distance induite par la lecture\, la puissance ou la légèreté de la poésie et de la musique nous les font entendre sans violence\, tout en nous en révélant la portée politique d’une vibrante actualité.
URL:https://ville-pibrac.fr/evenement/nuit-de-la-lecture-juste-une-fille/
ATTACH;FMTTYPE=image/png:https://ville-pibrac.fr/wp-content/uploads/2026/01/affiche_juste_une_fille.png
END:VEVENT
BEGIN:VEVENT
DTSTART;TZID=Europe/Paris:20260116T203000
DTEND;TZID=Europe/Paris:20260116T220000
DTSTAMP:20260422T142558
CREATED:20260112T151922Z
LAST-MODIFIED:20260112T151932Z
UID:10000514-1768595400-1768600800@ville-pibrac.fr
SUMMARY:CONFÉRENCE HISTOIRE DU PASTORALISME DANS LES PYRENEES
DESCRIPTION:Jardin Nature Pibrac organise une conférence sur l’histoire du pastoralisme dans les pyrénées\, animée par Christine Rendu\, directrice de recherche au CNRS /Laboratoire TERRAE Université Toulouse Jean Jaurès\, le vendredi 16 janvier 2026 à 20h30 à la salle polyvalente et en visio.
URL:https://ville-pibrac.fr/evenement/conference-histoire-du-pastoralisme-dans-les-pyrenees/
END:VEVENT
BEGIN:VEVENT
DTSTART;TZID=Europe/Paris:20260117T100000
DTEND;TZID=Europe/Paris:20260117T120000
DTSTAMP:20260422T142558
CREATED:20260113T102247Z
LAST-MODIFIED:20260113T102658Z
UID:10000522-1768644000-1768651200@ville-pibrac.fr
SUMMARY:ATELIER THÉÂTRE PARENTS/ENFANTS
DESCRIPTION:L’association Scaramouche organise un atelier théâtre parents/enfants le samedi 17 janvier 2026 de 10h à 12h à la salle de danse (Boulevard des Ecoles). \n\n\n\nInformation et inscription : scaramouche.pibrac@gmail.com – 06 63 31 74 82 
URL:https://ville-pibrac.fr/evenement/atelier-theatre-parents-enfants-3/
END:VEVENT
BEGIN:VEVENT
DTSTART;TZID=Europe/Paris:20260117T133000
DTEND;TZID=Europe/Paris:20260117T153000
DTSTAMP:20260422T142558
CREATED:20250925T100034Z
LAST-MODIFIED:20250925T100037Z
UID:10000458-1768656600-1768663800@ville-pibrac.fr
SUMMARY:STAGE SELF DEFENSE POUR FEMMES
DESCRIPTION:L’association Penchak Silat Occitanie organise un stage de self defense pour femmes le samedi 17 janvier 2026 de 13h30 à 15h30 au gymnase de la Castanette. \n\n\n\nPlus d’informations : penchaksilatoccitanie@gmail.com
URL:https://ville-pibrac.fr/evenement/stage-self-defense-pour-femmes-6/
ATTACH;FMTTYPE=image/jpeg:https://ville-pibrac.fr/wp-content/uploads/2025/09/Stage-de-self-defense-2025-2026.jpg
END:VEVENT
BEGIN:VEVENT
DTSTART;TZID=Europe/Paris:20260117T210000
DTEND;TZID=Europe/Paris:20260117T223000
DTSTAMP:20260422T142558
CREATED:20260112T154411Z
LAST-MODIFIED:20260112T154424Z
UID:10000519-1768683600-1768689000@ville-pibrac.fr
SUMMARY:CE SOIR AU LAB' ART' - JAZZ CAM
DESCRIPTION:Dans ce soir au Lab’Art’\, la MJC Pibrac vous propose\, Jazz Cam\, le samedi 17 janvier 2026 à 21h au Lab’Art’. \n\n\n\nJazzCam est un quartet Jazz composé de 3 musiciens (François au piano\, Anthony à la contrebasse et Jean-Pierre à la batterie) accompagnant Camille à la voix. \n\n\n\nRéservation auprès de la MJC Pibrac : 05 62 13 50 46 – mjc.pibrac@orange.fr
URL:https://ville-pibrac.fr/evenement/ce-soir-au-lab-art-jazz-cam/
END:VEVENT
BEGIN:VEVENT
DTSTART;TZID=Europe/Paris:20260121T140000
DTEND;TZID=Europe/Paris:20260121T160000
DTSTAMP:20260422T142558
CREATED:20260112T151331Z
LAST-MODIFIED:20260112T151358Z
UID:10000513-1769004000-1769011200@ville-pibrac.fr
SUMMARY:ATELIER INSECTES VOLUMES PAPIER
DESCRIPTION:La Médiathèque organise un atelier insectes volumes papier\, animé par l’illustrateur Guillaume Ruffault\, le mercredi 21 janvier 2026 de 14h à 16h.  \n\n\n\nAtelier de 2h à partir de 7 ans.Dans le cadre du festival du livre jeunesse Occitanie. \n\n\n\nSur inscription : mediatheque@mairie-pibrac.fr – 05 61 86 09 69
URL:https://ville-pibrac.fr/evenement/atelier-insectes-volumes-papier/
END:VEVENT
BEGIN:VEVENT
DTSTART;TZID=Europe/Paris:20260121T173000
DTEND;TZID=Europe/Paris:20260121T193000
DTSTAMP:20260422T142558
CREATED:20260112T150807Z
LAST-MODIFIED:20260112T150847Z
UID:10000512-1769016600-1769023800@ville-pibrac.fr
SUMMARY:MON ENFANT EST DIFFÉRENT
DESCRIPTION:« Mon enfant est différent » mercredi 21 janvier 2026 de 17h30 à 19h30 à la Maison des Citoyens (salle Nina). \n\n\n\nSophrologie :17h30 à 18h30 – salle Françoise \n\n\n\nGroupe de parole :18h30 à 19h30 – salle Nina \n\n\n\nAtelier à destination des adultes et des parents dont les enfants sont concernés par l’autisme\, le TDA/H et les troubles du neurodéveloppement.Un temps pour vous afin d’échanger au sein du groupe de parole et se ressourcer à l’aide de la sophrologie. \n\n\n\nSur inscription auprès de la Maison des Citoyens à mdc@mairie-pibrac.fr
URL:https://ville-pibrac.fr/evenement/mon-enfant-est-different-8/
ATTACH;FMTTYPE=image/jpeg:https://ville-pibrac.fr/wp-content/uploads/2026/01/Post-Insta-Cafe-des-Parents-scaled.jpg
END:VEVENT
BEGIN:VEVENT
DTSTART;TZID=Europe/Paris:20260124T000000
DTEND;TZID=Europe/Paris:20260131T235959
DTSTAMP:20260422T142558
CREATED:20260114T082225Z
LAST-MODIFIED:20260114T082230Z
UID:10000530-1769212800-1769903999@ville-pibrac.fr
SUMMARY:HERCULES
DESCRIPTION:Le TMP accueille le Secret Panto Society avec leur spectacle\, Hercules\, du 24 au 31 janvier 2026. \n\n\n\nDATES :Samedi 24 janvier 2026 15h et 20hDimanche 25 janvier 2026 à 15hMercredi 28 janvier 2026 à 18h30Vendredi 30 janvier 2026 à 20hSamedi 31 janvier 2026 à 15hSamedi 31 janvier 2026 à 20h \n\n\n\n\nLorsque Hercules découvre que son père biologique n’est autre que Zeus\, le Roi des dieux\, il s’élance dans une quête pour montrer qu’il est un héro digne de devenir un dieu lui-même. \n\n\n\nAvec son coach Nike et son pégase fidèle\, il se prépare à affronter un marathon de défis titanesques\, concoctés par les dieux les plus dangereux\, déterminés à déjouer notre champion. \n\n\n\nUne jeune fille courageuse et généreuse pourra-t-elle aider notre héro à accomplir son destin ? \n\n\n\nL’amour sera-t-il la clé de ce “mythe-stère”? \n\n\n\nAvec des chants\, des danses\, des bouffonneries et des personnages épiques !
URL:https://ville-pibrac.fr/evenement/hercules/
ATTACH;FMTTYPE=image/jpeg:https://ville-pibrac.fr/wp-content/uploads/2026/01/W-AFF-Hercules-600x900-1.jpg
END:VEVENT
BEGIN:VEVENT
DTSTART;TZID=Europe/Paris:20260124T203000
DTEND;TZID=Europe/Paris:20260124T213000
DTSTAMP:20260422T142558
CREATED:20260114T081328Z
LAST-MODIFIED:20260114T081421Z
UID:10000529-1769286600-1769290200@ville-pibrac.fr
SUMMARY:CONCERT NOX ET LUMINA
DESCRIPTION:L’association Orgues et Patrimoine vous propose un concert à l’église\, Nox et Lumina\, du choeur de chambre Temporalis\, le samedi 24 janvier 2026 à 20h30.
URL:https://ville-pibrac.fr/evenement/concert-nox-et-lumina/
ATTACH;FMTTYPE=image/jpeg:https://ville-pibrac.fr/wp-content/uploads/2026/01/Concert-Nox-et-lumina.jpg
END:VEVENT
BEGIN:VEVENT
DTSTART;TZID=Europe/Paris:20260127T143000
DTEND;TZID=Europe/Paris:20260127T170000
DTSTAMP:20260422T142558
CREATED:20260112T152613Z
LAST-MODIFIED:20260112T152631Z
UID:10000516-1769524200-1769533200@ville-pibrac.fr
SUMMARY:LOTO
DESCRIPTION:Le club des ainés\, Rayon de Soleil\, organise un loto le mardi 27 janvier 2026 de 14h30 à 17h à la salle polyvalente.
URL:https://ville-pibrac.fr/evenement/loto-6/
END:VEVENT
BEGIN:VEVENT
DTSTART;TZID=Europe/Paris:20260131T210000
DTEND;TZID=Europe/Paris:20260131T220000
DTSTAMP:20260422T142558
CREATED:20260112T155025Z
LAST-MODIFIED:20260112T155034Z
UID:10000520-1769893200-1769896800@ville-pibrac.fr
SUMMARY:SCÈNES OUVERTES AU LAB'ART
DESCRIPTION:La MJC Pibrac organise des scènes ouvertes au Lab’Art’ le samedi 31 janvier 2026 à 21h.
URL:https://ville-pibrac.fr/evenement/scenes-ouvertes-au-labart/
ATTACH;FMTTYPE=image/jpeg:https://ville-pibrac.fr/wp-content/uploads/2026/01/scenes-ouvertes-mJc-Pibrac.jpg
END:VEVENT
END:VCALENDAR