BEGIN:VCALENDAR
VERSION:2.0
PRODID:-//Mairie de Pibrac - ECPv6.15.17.1//NONSGML v1.0//EN
CALSCALE:GREGORIAN
METHOD:PUBLISH
X-WR-CALNAME:Mairie de Pibrac
X-ORIGINAL-URL:https://ville-pibrac.fr
X-WR-CALDESC:Évènements pour Mairie de Pibrac
REFRESH-INTERVAL;VALUE=DURATION:PT1H
X-Robots-Tag:noindex
X-PUBLISHED-TTL:PT1H
BEGIN:VTIMEZONE
TZID:Europe/Paris
BEGIN:DAYLIGHT
TZOFFSETFROM:+0100
TZOFFSETTO:+0200
TZNAME:CEST
DTSTART:20240331T010000
END:DAYLIGHT
BEGIN:STANDARD
TZOFFSETFROM:+0200
TZOFFSETTO:+0100
TZNAME:CET
DTSTART:20241027T010000
END:STANDARD
BEGIN:DAYLIGHT
TZOFFSETFROM:+0100
TZOFFSETTO:+0200
TZNAME:CEST
DTSTART:20250330T010000
END:DAYLIGHT
BEGIN:STANDARD
TZOFFSETFROM:+0200
TZOFFSETTO:+0100
TZNAME:CET
DTSTART:20251026T010000
END:STANDARD
BEGIN:DAYLIGHT
TZOFFSETFROM:+0100
TZOFFSETTO:+0200
TZNAME:CEST
DTSTART:20260329T010000
END:DAYLIGHT
BEGIN:STANDARD
TZOFFSETFROM:+0200
TZOFFSETTO:+0100
TZNAME:CET
DTSTART:20261025T010000
END:STANDARD
END:VTIMEZONE
BEGIN:VEVENT
DTSTART;TZID=Europe/Paris:20250503T210000
DTEND;TZID=Europe/Paris:20250503T220000
DTSTAMP:20260423T025821
CREATED:20250403T064956Z
LAST-MODIFIED:20250403T065000Z
UID:10000359-1746306000-1746309600@ville-pibrac.fr
SUMMARY:CE SOIR AU LAB’ART’ – A QUOI SERVENT LES POINTS VIRGULES ?
DESCRIPTION:Dans ce soir au Lab’Art’\, la MJC Pibrac vous propose\, A quoi servent les points-virgules ? de la compagnie Je2scène\, le samedi 3 mai 2025 à 21h au Lab’Art’. \n\n\n\nDescription :  \n\n\n\nLe point-virgule sert à séparer des propositions d’une certaine longueur\, unies par le sens […] On y a recours lorsqu’il y a ellipse du verbe dans la deuxième proposition.Deux personnages sont là par hasard comme deux propositions indépendantes.A quoi serviront alors les points-virgules ? Leur rencontre sera-telle salvatrice pour l’un comme pour l’autre ?. \n\n\n\nRéservation auprès de la MJC Pibrac : 05 62 13 50 46 – mjc.pibrac@orange.fr
URL:https://ville-pibrac.fr/evenement/ce-soir-au-labart-a-quoi-servent-les-points-virgules/
END:VEVENT
BEGIN:VEVENT
DTSTART;TZID=Europe/Paris:20250508T080000
DTEND;TZID=Europe/Paris:20250508T170000
DTSTAMP:20260423T025821
CREATED:20250411T141622Z
LAST-MODIFIED:20250411T141631Z
UID:10000369-1746691200-1746723600@ville-pibrac.fr
SUMMARY:CÉRÉMONIE DE LA VICTOIRE
DESCRIPTION:La cérémonie de la Victoire du 8 mai 1945 se tiendra le jeudi 8 mai 2025 à 11h30 au monument aux morts de Pibrac.
URL:https://ville-pibrac.fr/evenement/ceremonie-de-la-victoire/
END:VEVENT
BEGIN:VEVENT
DTSTART;TZID=Europe/Paris:20250512T173000
DTEND;TZID=Europe/Paris:20250512T203000
DTSTAMP:20260423T025821
CREATED:20250117T102335Z
LAST-MODIFIED:20250117T102336Z
UID:10000280-1747071000-1747081800@ville-pibrac.fr
SUMMARY:ATELIER REPAIR CAFE
DESCRIPTION:Atelier Repair Café le lundi 12 mai 2025 de 17h30 à 20h30 à la salle polyvalente. \n\n\n\nLE REPAIR CAFÉ DE PIBRAC : NOUVEAU LIEU\, NOUVEAU JOUR\n\n\n\nQuand : lundi 12 mai 2025 de 17h30 à 20h30Lieu : Salle Polyvalente\, 6 Boulevard des écolesAtelier gratuit et ouvert à tous.Apporter vos objets cassés et apprenez à les réparer. \n\n\n\nAvec notre équipe de bénévoles\, on répare avec vous dans un esprit de bienveillance et de convivialité.Amenez vos petits appareils électroménagers\, outillages\, jouets\, audio et informatiques qui ne fonctionnent plus\, il est peut-être possible d’éviter la déchetterie !Et n’oubliez pas : Atelier réparation VéloRéparez au lieu de jeter ! \n\n\n\nLe Repair Café est fait pour vous si :– Votre appareil ne peut pas être réparé par un professionnel ou la réparation est trop onéreuse.– Vous avez envie de réparer vous-même mais vous ne savez pas comment vous y prendre.– Vous n’avez pas les bons outils.– Vous voulez faire des économies en prolongeant sa durée de vie.– Vous voulez diminuer votre empreinte carbone et les consommations de ressources.– Vous ne voulez pas remplir les déchetteries.– Partager un moment convivial et des savoirs. \n\n\n\nLe Repair Café de Pibrac est une des activités de l’association Pibraction Environnement.
URL:https://ville-pibrac.fr/evenement/atelier-repair-cafe-9/
ATTACH;FMTTYPE=image/jpeg:https://ville-pibrac.fr/wp-content/uploads/2023/08/repair_cafe.jpg
END:VEVENT
BEGIN:VEVENT
DTSTART;TZID=Europe/Paris:20250513T180000
DTEND;TZID=Europe/Paris:20250513T220000
DTSTAMP:20260423T025821
CREATED:20250502T114215Z
LAST-MODIFIED:20250502T114352Z
UID:10000371-1747159200-1747173600@ville-pibrac.fr
SUMMARY:PIBRAC EN SCÈNE - FLASH
DESCRIPTION:Dans le cadre de Pibrac en Scène\, les élèves de CM1 et CM2 de l’école de La Salle vous présentent Flash\, le petit papillon dont les minutes sont comptées\, Conte musical\, le mardi 13 mai 2025 à 18h et 20h30 au TMP.Durée : 1h30Billetterie en ligne ici (Tarif unique : 10 €)
URL:https://ville-pibrac.fr/evenement/pibrac-en-scene-flash/
ATTACH;FMTTYPE=image/jpeg:https://ville-pibrac.fr/wp-content/uploads/2025/05/Pibrac-Scene-2025w.jpg
END:VEVENT
BEGIN:VEVENT
DTSTART;TZID=Europe/Paris:20250514T173000
DTEND;TZID=Europe/Paris:20250514T190000
DTSTAMP:20260423T025821
CREATED:20250225T125145Z
LAST-MODIFIED:20250225T125148Z
UID:10000330-1747243800-1747249200@ville-pibrac.fr
SUMMARY:MON ENFANT EST DIFFÉRENT
DESCRIPTION:« Mon enfant est différent » mercredi 14 mai 2025 de 17h30 à 19h à la Maison des Citoyens (salle nina).Atelier à destination des adultes et des parents dont les enfants sont concernés par l’autisme\, le TDA/H et les troubles du neurodéveloppement. Un temps pour vous afin d’échanger au sein du groupe de parole et se ressourcer à l’aide de la sophrologie.
URL:https://ville-pibrac.fr/evenement/mon-enfant-est-different-4/
ATTACH;FMTTYPE=image/jpeg:https://ville-pibrac.fr/wp-content/uploads/2025/02/Mon-enfant-est-different-14-mai-2025-scaled.jpg
END:VEVENT
BEGIN:VEVENT
DTSTART;TZID=Europe/Paris:20250515T080000
DTEND;TZID=Europe/Paris:20250518T170000
DTSTAMP:20260423T025821
CREATED:20250117T150811Z
LAST-MODIFIED:20250512T075229Z
UID:10000294-1747296000-1747587600@ville-pibrac.fr
SUMMARY:FETE /FAITES DU VÉLO
DESCRIPTION:Du 15 au 18 mai 2025\, l’association Pibraction Environnement\, antenne locale de 2Pieds2Roues\, organise\, avec le soutien de la Ville de Pibrac\, la 4ème édition de Fête / Faites du Vélo. \n\n\n\nCet évènement festif comprendra notamment : \n\n\n\n– les journées Savoir Rouler à Vélo et Allons Y à Vélo en collaboration avec les écoles de Pibrac\, \n\n\n\n– une bourse aux vélos qui permettra de vendre ou d’acheter des deux roues avec ou sans assistance électrique et de s’équiper pour une meilleure sécurité et un plus grand confort\, \n\n\n\n– des animations (conférence sur le voyage à vélo en présence de deux familles qui le pratiquent \, divertissement pour les jeunes et les moins jeunes\, jus de fruits avec le vélo Minimix\, ambiance électrique avec le vélo Génix\, initiation à la pratique du vélo et à son entretien\, …)\, \n\n\n\n– une soirée cinéma au TEMPO de Léguevin avec le film « A bicyclette » et la participation de l’acteur – réalisateur Mathias Mlekuz. \n\n\n\n– des balades découvertes vers la forêt de Bouconne. \n\n\n\nLe Programme complet est ici. \n\n\n\nContact :  feteoufaitesduvelo@gmail.com ou 06 03 03 41 88www.pibraction-environnement.org
URL:https://ville-pibrac.fr/evenement/fete-faites-du-velo/
ATTACH;FMTTYPE=image/jpeg:https://ville-pibrac.fr/wp-content/uploads/2025/01/Visuel-FdV-2024-3-3-marron.jpg
END:VEVENT
BEGIN:VEVENT
DTSTART;TZID=Europe/Paris:20250516T100000
DTEND;TZID=Europe/Paris:20250516T123000
DTSTAMP:20260423T025821
CREATED:20250225T131109Z
LAST-MODIFIED:20250225T131112Z
UID:10000335-1747389600-1747398600@ville-pibrac.fr
SUMMARY:ATELIER SOCIO ESTHÉTIQUE
DESCRIPTION:Atelier socio-esthétique vendredi 16 mai 2025 de 10h à 12h30 à la Maison des Citoyens. \n\n\n\nCes ateliers de socio-esthétique sont à destination des Pibracais et Pibracaises en cours ou post-traitement\, toutes pathologies cancéreuses confondues.Des ateliers thématiques pour prendre soin de soi\, gérer les effets indésirables\, se détendre\, se sentir mieux dans son corps et dans sa tête. \n\n\n\nSur inscription auprès de la MDC :En ligne ou au 05 62 13 00 94
URL:https://ville-pibrac.fr/evenement/atelier-socio-esthetique-5/
ATTACH;FMTTYPE=image/jpeg:https://ville-pibrac.fr/wp-content/uploads/2025/02/A3-affiche-socio-esthetique-scaled.jpg
END:VEVENT
BEGIN:VEVENT
DTSTART;TZID=Europe/Paris:20250516T203000
DTEND;TZID=Europe/Paris:20250516T220000
DTSTAMP:20260423T025821
CREATED:20250214T112454Z
LAST-MODIFIED:20250502T133204Z
UID:10000322-1747427400-1747432800@ville-pibrac.fr
SUMMARY:PIBRAC EN SCÈNE - 20 ANS DE VOCALYA
DESCRIPTION:Dans le cadre de Pibrac en Scène\, Vocalya fête ses 20 ans lors de son spectacle anniversaire\, interprété par les chanteurs de Vocalya\, accompagné au piano\, violon et contrebasse\, le vendredi 16 mai 2025 à 20h30 au TMP. \n\n\n\nDurée : 1h50 \n\n\n\nBilletterie en ligne ici ( Tarifs : 16 € / 14 € / 9 € ) \n\n\n\nPlus d’informations sur le site de Vocalya
URL:https://ville-pibrac.fr/evenement/20-ans-de-vocalya/
END:VEVENT
BEGIN:VEVENT
DTSTART;TZID=Europe/Paris:20250517T110000
DTEND;TZID=Europe/Paris:20250517T200000
DTSTAMP:20260423T025821
CREATED:20250502T114825Z
LAST-MODIFIED:20250502T114829Z
UID:10000372-1747479600-1747512000@ville-pibrac.fr
SUMMARY:PIBRAC EN SCÈNE - MUSIC EN SCÈNE
DESCRIPTION:Dans le cadre de Pibrac en Scène\, l’école de musique de Pibrac et ses invités (à Tempo) vous présentent le samedi 17 mai 2025 au TMP : \n\n\n\n11h00 – 12h30 : « Premiers Pas en Musique » (Eveil musical\, Chorale enfant\, Premier concert d’enfants) (Gratuit) \n\n\n\n13h30 – 14h30 : « Melod’Adultes » (Auditions des élèves ados et adultes) (Gratuit) \n\n\n\n14h30 – 16h00 : « P’tits Solistes en Scène » (Audition des élèves enfants) (Gratuit) \n\n\n\n18h15  : « Concert des professeurs » : billetterie en ligne ici(Tarifs : 14 € / 7 € / 5€* tarif réservé aux élèves adhérents des Écoles de Musique de Pibrac et de A Tempo)
URL:https://ville-pibrac.fr/evenement/pibrac-en-scene-music-en-scene/
ATTACH;FMTTYPE=image/jpeg:https://ville-pibrac.fr/wp-content/uploads/2025/05/Pibrac-Scene-2025w.jpg
END:VEVENT
BEGIN:VEVENT
DTSTART;TZID=Europe/Paris:20250521T130000
DTEND;TZID=Europe/Paris:20250521T180000
DTSTAMP:20260423T025821
CREATED:20250502T133804Z
LAST-MODIFIED:20250502T133806Z
UID:10000377-1747832400-1747850400@ville-pibrac.fr
SUMMARY:SORTIE ADOS - LAZER GAME
DESCRIPTION:La MJC Pibrac propose une Sortie Ados au Lazer Game à Roques-sur-Garonne le mercredi 21 mai 2025. \n\n\n\nPlus d’informations auprès de la MJC Pibrac.
URL:https://ville-pibrac.fr/evenement/sortie-ados-lazer-game/
END:VEVENT
BEGIN:VEVENT
DTSTART;TZID=Europe/Paris:20250521T183000
DTEND;TZID=Europe/Paris:20250523T200000
DTSTAMP:20260423T025821
CREATED:20250502T115257Z
LAST-MODIFIED:20250502T133116Z
UID:10000373-1747852200-1748030400@ville-pibrac.fr
SUMMARY:PIBRAC EN SCÈNE - LES TRIBULATIONS DE SCARAMOUCHE
DESCRIPTION:Dans le cadre de Pibrac en Scène\, l’association Scaramouche vous présente au TMP : \n\n\n\nMercredi 21 mai 2025 à 18h30 (impro ados\, ados\, adultes). \n\n\n\nJeudi 22 mai 2025 à 18h30 (enfants\, impro adultes\, adultes). \n\n\n\nVendredi 23 mai 2025 à 18h30 (enfants\, adultes). \n\n\n\nBilletterie en ligne ici ( Tarifs : 9 € / 7 € )
URL:https://ville-pibrac.fr/evenement/pibrac-en-scene-les-tribulations-de-scaramouche/
ATTACH;FMTTYPE=image/jpeg:https://ville-pibrac.fr/wp-content/uploads/2025/05/Pibrac-Scene-2025w.jpg
END:VEVENT
BEGIN:VEVENT
DTSTART;TZID=Europe/Paris:20250523T203000
DTEND;TZID=Europe/Paris:20250523T223000
DTSTAMP:20260423T025821
CREATED:20250214T112809Z
LAST-MODIFIED:20250523T134939Z
UID:10000323-1748032200-1748039400@ville-pibrac.fr
SUMMARY:CONCERT PHILARMONIA TOLOSA
DESCRIPTION:Concert orchestre et choeurs avec l’orchestre Philarmonia Tolosa\, vendredi 23 mai 2025 à 20h30 à l’église Sainte-Marie Madeleine à Pibrac.
URL:https://ville-pibrac.fr/evenement/concert-philarmonia-tolosa/
END:VEVENT
BEGIN:VEVENT
DTSTART;TZID=Europe/Paris:20250524T160000
DTEND;TZID=Europe/Paris:20250524T220000
DTSTAMP:20260423T025821
CREATED:20250403T075355Z
LAST-MODIFIED:20250502T092540Z
UID:10000367-1748102400-1748124000@ville-pibrac.fr
SUMMARY:FÊTE DE LA MDC
DESCRIPTION:Le centre social appelé Maison des Citoyens (MDC) a le plaisir de vous inviter à la Fête de la Maison des Citoyens\, un événement festif et convivial destiné aux usagers\, habitants et partenaires. Cet événement se déroulera le samedi 24 mai\, de 16h00 à 22h00\, et constitue un temps fort de l’année\, visant à renforcer les liens sociaux et à promouvoir la solidarité au sein du territoire. \n\n\n\nCette journée sera ponctuée par une variété d’animations : ateliers créatifs\, jeux pour petits et grands\, animations autour du bien-être et bien plus encore. Ce rendez-vous est également l’occasion de mettre en lumière les différentes actions menées par le Centre social tout au long de l’année pour promouvoir l’inclusion sociale et soutenir les initiatives citoyennes.  \n\n\n\nEn début de soirée\, l’équipe de la MDC propose de venir partager un repas type « auberge espagnole » et de profiter ensuite d’une pause musicale. Avis aux musiciens et musiciennes de Pibrac\, la scène sera ouverte ! \n\n\n\nOuvert à tous.
URL:https://ville-pibrac.fr/evenement/fete-de-la-mdc/
ATTACH;FMTTYPE=image/jpeg:https://ville-pibrac.fr/wp-content/uploads/2025/04/Fete-de-la-MDC-scaled.jpg
END:VEVENT
BEGIN:VEVENT
DTSTART;TZID=Europe/Paris:20250524T210000
DTEND;TZID=Europe/Paris:20250524T220000
DTSTAMP:20260423T025821
CREATED:20250403T065347Z
LAST-MODIFIED:20250403T065350Z
UID:10000360-1748120400-1748124000@ville-pibrac.fr
SUMMARY:CE SOIR AU LAB’ART’ – RE CRASH TA JOIE
DESCRIPTION:Dans ce soir au Lab’Art’\, la MJC Pibrac vous propose\, Re crash ta joie de la compagnie MerciJosiane\, le samedi 24 mai 2025 à 21h au Lab’Art’. \n\n\n\nPourquoi et quand se révolte-t-on?Pourquoi acceptons nous ou nous dressons nous contre ce que l’on nous impose ?Quelle goutte d’eau\, quelles étincelles peuvent faire lever les gens\, une foule\, un peuple ? \n\n\n\nPourquoi Recrash ta joie ?Parce qu’il y a d’abord eu « Crash ta joie » en 2019.Parce que ce n’est pas fini\, parce qu’on a besoin d’y revenir\, parce que ça n’est jamais perdu\, on reprend\, on réécrit et on recrash !Le tout en version MerciJosiane ! Des textes\, des bruitages\, des corps et des voix qui oscillent entre grincements de dents et élan poétique.Pour que vive un souffle d’insurrection à travers ces textes de Prévert à Orwell\, en passant par Despentes\, Gainsbourg ou Vuillard. \n\n\n\nRéservation auprès de la MJC Pibrac : 05 62 13 50 46 – mjc.pibrac@orange.fr
URL:https://ville-pibrac.fr/evenement/ce-soir-au-labart-re-crash-ta-joie/
END:VEVENT
BEGIN:VEVENT
DTSTART;TZID=Europe/Paris:20250525T090000
DTEND;TZID=Europe/Paris:20250525T170000
DTSTAMP:20260423T025821
CREATED:20250502T133609Z
LAST-MODIFIED:20250502T133612Z
UID:10000376-1748163600-1748192400@ville-pibrac.fr
SUMMARY:SORTIE ADOS - TOULOUSE GAME SHOW
DESCRIPTION:La MJC Pibrac propose une Sortie Ados au Toulouse Game Show à Labège le dimanche 25 mai 2025. \n\n\n\nPlus d’informations auprès de la MJC Pibrac.
URL:https://ville-pibrac.fr/evenement/sortie-ados-toulouse-game-show/
END:VEVENT
BEGIN:VEVENT
DTSTART;TZID=Europe/Paris:20250525T170000
DTEND;TZID=Europe/Paris:20250525T190000
DTSTAMP:20260423T025821
CREATED:20250502T132248Z
LAST-MODIFIED:20250502T132251Z
UID:10000374-1748192400-1748199600@ville-pibrac.fr
SUMMARY:PIBRAC EN SCÈNE - CURTAINS UP
DESCRIPTION:Dans le cadre de Pibrac en Scène\, l’association TMA 31 vous présente\, Curtains Up : A Musical Spectacle\, le dimanche 25 mai à 17h au TMP.  \n\n\n\nDurée : 2 x 50min. \n\n\n\nBilletterie en ligne ici (Tarifs : 12€ / 10€ / 6€)
URL:https://ville-pibrac.fr/evenement/pibrac-en-scene-curtains-up/
ATTACH;FMTTYPE=image/jpeg:https://ville-pibrac.fr/wp-content/uploads/2025/05/Pibrac-Scene-2025w.jpg
END:VEVENT
BEGIN:VEVENT
DTSTART;TZID=Europe/Paris:20250527T090000
DTEND;TZID=Europe/Paris:20250527T120000
DTSTAMP:20260423T025821
CREATED:20241210T160339Z
LAST-MODIFIED:20241210T160343Z
UID:10000263-1748336400-1748347200@ville-pibrac.fr
SUMMARY:TOULOUSE METROPOLE RENOV'
DESCRIPTION:Une permanence Toulouse Métropole Rénov’ se tiendra le mardi 27 mai 2025 à la Maison des Citoyens. \n\n\n\nSur RDV auprès de Toulouse Métropole Rénov : renov.toulouse-metropole.fr05 34 24 59 59 renov.toulouse-metropole.fr/prise-de-rendez-vous
URL:https://ville-pibrac.fr/evenement/toulouse-metropole-renov/
ATTACH;FMTTYPE=image/png:https://ville-pibrac.fr/wp-content/uploads/2024/12/Logo-Toulouse-Metropole-Renov.png
END:VEVENT
BEGIN:VEVENT
DTSTART;TZID=Europe/Paris:20250527T183000
DTEND;TZID=Europe/Paris:20250527T220000
DTSTAMP:20260423T025821
CREATED:20250502T132715Z
LAST-MODIFIED:20250502T132718Z
UID:10000375-1748370600-1748383200@ville-pibrac.fr
SUMMARY:PIBRAC EN SCÈNE - JEUX DE MOTS
DESCRIPTION:Dans le cadre de Pibrac en Scène\, l’école élémentaire du Bois de la Barthe vous présente\, jeux de mots\, le mardi 27 mai 2025 au TMP :  \n\n\n\n– Élèves du cycle 2 : 18h30 (Gratuit – Billets à l’école)\, durée 60mn– Élèves du cycle 3 : 20h30 (Gratuit – Billets à l’école)\, durée 70 mn \n\n\n\n(Gratuit – Billets à l’école)
URL:https://ville-pibrac.fr/evenement/pibrac-en-scene-jeux-de-mots/
ATTACH;FMTTYPE=image/jpeg:https://ville-pibrac.fr/wp-content/uploads/2025/05/Pibrac-Scene-2025w.jpg
END:VEVENT
BEGIN:VEVENT
DTSTART;TZID=Europe/Paris:20250530T090000
DTEND;TZID=Europe/Paris:20250530T170000
DTSTAMP:20260423T025821
CREATED:20250502T113531Z
LAST-MODIFIED:20250502T113535Z
UID:10000370-1748595600-1748624400@ville-pibrac.fr
SUMMARY:FERMETURE DES SERVICES DE LA VILLE
DESCRIPTION:Fermeture exceptionnelle des services de la Ville le vendredi 30 mai 2025. \n\n\n\nPour tout urgence\, contactez le 05 62 13 48 10 (une astreinte est mise en place).
URL:https://ville-pibrac.fr/evenement/fermeture-des-services-de-la-ville/
END:VEVENT
END:VCALENDAR