BEGIN:VCALENDAR
VERSION:2.0
PRODID:-//Mairie de Pibrac - ECPv6.15.17.1//NONSGML v1.0//EN
CALSCALE:GREGORIAN
METHOD:PUBLISH
X-WR-CALNAME:Mairie de Pibrac
X-ORIGINAL-URL:https://ville-pibrac.fr
X-WR-CALDESC:Évènements pour Mairie de Pibrac
REFRESH-INTERVAL;VALUE=DURATION:PT1H
X-Robots-Tag:noindex
X-PUBLISHED-TTL:PT1H
BEGIN:VTIMEZONE
TZID:Europe/Paris
BEGIN:DAYLIGHT
TZOFFSETFROM:+0100
TZOFFSETTO:+0200
TZNAME:CEST
DTSTART:20240331T010000
END:DAYLIGHT
BEGIN:STANDARD
TZOFFSETFROM:+0200
TZOFFSETTO:+0100
TZNAME:CET
DTSTART:20241027T010000
END:STANDARD
BEGIN:DAYLIGHT
TZOFFSETFROM:+0100
TZOFFSETTO:+0200
TZNAME:CEST
DTSTART:20250330T010000
END:DAYLIGHT
BEGIN:STANDARD
TZOFFSETFROM:+0200
TZOFFSETTO:+0100
TZNAME:CET
DTSTART:20251026T010000
END:STANDARD
BEGIN:DAYLIGHT
TZOFFSETFROM:+0100
TZOFFSETTO:+0200
TZNAME:CEST
DTSTART:20260329T010000
END:DAYLIGHT
BEGIN:STANDARD
TZOFFSETFROM:+0200
TZOFFSETTO:+0100
TZNAME:CET
DTSTART:20261025T010000
END:STANDARD
END:VTIMEZONE
BEGIN:VEVENT
DTSTART;TZID=Europe/Paris:20250402T173000
DTEND;TZID=Europe/Paris:20250402T190000
DTSTAMP:20260423T042723
CREATED:20250225T124906Z
LAST-MODIFIED:20250225T124912Z
UID:10000329-1743615000-1743620400@ville-pibrac.fr
SUMMARY:MON ENFANT EST DIFFÉRENT
DESCRIPTION:« Mon enfant est différent » mercredi 2 avril 2025 de 17h30 à 19h à la Maison des Citoyens (salle nina).Atelier à destination des adultes et des parents dont les enfants sont concernés par l’autisme\, le TDA/H et les troubles du neurodéveloppement. Un temps pour vous afin d’échanger au sein du groupe de parole et se ressourcer à l’aide de la sophrologie.
URL:https://ville-pibrac.fr/evenement/mon-enfant-est-different-3/
ATTACH;FMTTYPE=image/jpeg:https://ville-pibrac.fr/wp-content/uploads/2025/02/Mon-enfant-est-different-2-avril-2025-scaled.jpg
END:VEVENT
BEGIN:VEVENT
DTSTART;TZID=Europe/Paris:20250404T140000
DTEND;TZID=Europe/Paris:20250404T180000
DTSTAMP:20260423T042723
CREATED:20250327T202321Z
LAST-MODIFIED:20250327T202323Z
UID:10000346-1743775200-1743789600@ville-pibrac.fr
SUMMARY:ORIENTATION PROFESSIONNELLE
DESCRIPTION:La MJC Pibrac et la Mission Locale Haute-Garonne propose aux jeunes de les accompagner dans leur démarches d’orientation professionnelle et la rédaction et conception d’un CV\, lettre de motivation etc…\,Cet atelier se déroulera le vendredi 4 avril 2025 à partir de 14h au 1er étage de la Maison des Citoyens.
URL:https://ville-pibrac.fr/evenement/orientation-professionnelle/
ATTACH;FMTTYPE=image/jpeg:https://ville-pibrac.fr/wp-content/uploads/2025/03/486314125_1081495520687804_1642300425399949382_n.jpg
END:VEVENT
BEGIN:VEVENT
DTSTART;TZID=Europe/Paris:20250405T100000
DTEND;TZID=Europe/Paris:20250405T120000
DTSTAMP:20260423T042723
CREATED:20250328T103639Z
LAST-MODIFIED:20250328T103642Z
UID:10000353-1743847200-1743854400@ville-pibrac.fr
SUMMARY:STAGE CALLIGRAPHIE
DESCRIPTION:L’association La Malle aux Arts organise un stage de calligraphie le samedi 5 avril 2025 de 10h à 12h à l’ancienne bibliothèque (8 avenue du Bois de la Barthe). \n\n\n\nInscription auprès de La Malle aux Arts : lamalleauxarts@hotmail.com
URL:https://ville-pibrac.fr/evenement/stage-calligraphie-2/
END:VEVENT
BEGIN:VEVENT
DTSTART;TZID=Europe/Paris:20250405T133000
DTEND;TZID=Europe/Paris:20250405T153000
DTSTAMP:20260423T042723
CREATED:20250403T203135Z
LAST-MODIFIED:20250403T203149Z
UID:10000368-1743859800-1743867000@ville-pibrac.fr
SUMMARY:STAGE SELF DEFENSE POUR FEMMES
DESCRIPTION:L’association Penchak Silat Occitanie organise un stage de self defense pour femmes le samedi 5 avril 2025 de 13h30 à 15h30 au gymnase de la Castanette.  \n\n\n\nPlus d’informations : penchaksilatoccitanie@gmail.com
URL:https://ville-pibrac.fr/evenement/stage-self-defense-pour-femmes/
ATTACH;FMTTYPE=image/jpeg:https://ville-pibrac.fr/wp-content/uploads/2025/04/stage-self-defense-05042025.jpg
END:VEVENT
BEGIN:VEVENT
DTSTART;TZID=Europe/Paris:20250405T170000
DTEND;TZID=Europe/Paris:20250405T200000
DTSTAMP:20260423T042723
CREATED:20250402T153349Z
LAST-MODIFIED:20250402T153351Z
UID:10000358-1743872400-1743883200@ville-pibrac.fr
SUMMARY:LOTO
DESCRIPTION:L’APEL Collège et Ecole La Salle organise un loto le samedi 5 avril 2025 à 17h au collège de La Salle (18 rue des Frères). Ouverture des portes dès 15h.De nombreux lots sont à gagner.
URL:https://ville-pibrac.fr/evenement/loto/
END:VEVENT
BEGIN:VEVENT
DTSTART;TZID=Europe/Paris:20250405T210000
DTEND;TZID=Europe/Paris:20250405T220000
DTSTAMP:20260423T042723
CREATED:20250327T200836Z
LAST-MODIFIED:20250327T200838Z
UID:10000344-1743886800-1743890400@ville-pibrac.fr
SUMMARY:CE SOIR AU LAB'ART' - EN ÉTAT DE DÉSIR
DESCRIPTION:Dans ce soir au Lab’Art’\, la MJC Pibrac vous propose\, En état de désir de la compagnie Antrop’fil\, le samedi 5 avril 2025 à 21h au Lab’Art’. \n\n\n\n \n\n\n\n\nL’amour et l’écriture ont la même origine charnelle\, ils adsorbent les mêmes forces qui viennent du même brasier : l’état de désir ! \n\n\n\nDans cette comédie drolatique\, tyrannique\, une manipulation mentale\, cocasse et fallacieuse\, interagit entre une autrice mégalomane et une comédienne sur le déclin. \n\n\n\n\nRéservation auprès de la MJC Pibrac : 05 62 13 50 46 – mjc.pibrac@orange.fr
URL:https://ville-pibrac.fr/evenement/ce-soir-au-labart-en-etat-de-desir/
ATTACH;FMTTYPE=image/jpeg:https://ville-pibrac.fr/wp-content/uploads/2025/03/affiche_etat-de-desir.jpg
END:VEVENT
BEGIN:VEVENT
DTSTART;TZID=Europe/Paris:20250409T163000
DTEND;TZID=Europe/Paris:20250409T170000
DTSTAMP:20260423T042723
CREATED:20250317T144422Z
LAST-MODIFIED:20250317T144439Z
UID:10000342-1744216200-1744218000@ville-pibrac.fr
SUMMARY:SPECTACLE PETITE CHIMÈRE
DESCRIPTION:La médiathèque propose un spectacle\, petite chimère\, de la compagnie Cie Les Voyageurs Immobiles\, le mercredi 9 avril 2025 à 16h30 dans la salle du petit théâtre au TMP.  \n\n\n\n\nUne demoiselle s’amuse à coudre le monde. \n\n\n\nIl est fait de mille et un tissus doux et enveloppants\, peuplé d’animaux colorés\, à pois\, à rayures\, en popeline ou en flanelle. \n\n\n\nUn petit va sortir de l’œuf. \n\n\n\nC’est un être chimérique\, pas tout à fait fini\, mais déjà bien curieux. \n\n\n\nIl part découvrir cet univers tissé. \n\n\n\nIl y rencontre d’étonnantes bestioles agiles et farceuses qui lui donnent envie de danser\, de voler et de nager… \n\n\n\nEn les imitant\, avec humour et persévérance\, ce tout-petit deviendra plus grand et finira par prendre son envol. \n\n\n\n\nSpectacle à partir de 3 ans et gratuit.Réservation auprès de la Médiathèque : mediatheque@mairie-pibrac.fr – 05 61 86 09 69
URL:https://ville-pibrac.fr/evenement/spectacle-petite-chimere/
ATTACH;FMTTYPE=image/jpeg:https://ville-pibrac.fr/wp-content/uploads/2025/03/W-Petite-chimere.jpg
END:VEVENT
BEGIN:VEVENT
DTSTART;TZID=Europe/Paris:20250410T183000
DTEND;TZID=Europe/Paris:20250410T210000
DTSTAMP:20260423T042723
CREATED:20250328T132504Z
LAST-MODIFIED:20250328T132714Z
UID:10000354-1744309800-1744318800@ville-pibrac.fr
SUMMARY:CONFÉRENCE RÉNOVATION ÉNERGÉTIQUE
DESCRIPTION:Toulouse Métropole Rénov\, service public d’accompagnement aux particuliers sur la thématique de la maitrise de l’énergie dans l’habitat\, se déplacera à Pibrac le jeudi 10 avril 2025\, à 18h30 à la salle polyvalente pour animer une conférence sur la rénovation énergétique !   \n\n\n\nLa rénovation énergétique des logements est une priorité pour tous les acteurs : particuliers\, collectivités\, professionnels. Il existe aujourd’hui de multiples techniques d’intervention sur le bâti\, beaucoup de systèmes énergétiques\, un essor des énergies renouvelables\, des dispositifs d’aides financières relativement complexes à appréhender\, plusieurs labels de qualité pour les artisans…difficile de s’y retrouver !  \n\n\n\nCette conférence vous permettra d’avoir toutes les informations pour envisager sereinement un projet de rénovation énergétique performant\, efficace et bien financé. \n\n\n\nAu sommaire :• La mission de Toulouse Métropole Rénov• Pourquoi rénover ?• Les aspects techniques de la rénovation• Les diagnostics existants• Les aides financières pour la rénovation• Trouver un artisan et réussir son chantier• Un temps pour les questions/réponses » \n\n\n\nPlus d’informations : renov.toulouse-metropole.fr – 05 34 24 59 59 \n\n\n\nMaison de l’énergie1 allée jacques Chaban Delmas\, Toulouse.[métro ligne A- station Marengo]
URL:https://ville-pibrac.fr/evenement/conference-renovation-energetique/
ATTACH;FMTTYPE=image/jpeg:https://ville-pibrac.fr/wp-content/uploads/2025/03/1080x1350-inter-RENOV-ENERGETIQUE-2025_Page_1-1-scaled.jpg
END:VEVENT
BEGIN:VEVENT
DTSTART;TZID=Europe/Paris:20250411T190000
DTEND;TZID=Europe/Paris:20250411T220000
DTSTAMP:20260423T042723
CREATED:20250328T100625Z
LAST-MODIFIED:20250328T100655Z
UID:10000351-1744398000-1744408800@ville-pibrac.fr
SUMMARY:ADO CUISTOT
DESCRIPTION:Un atelier Ado Cuistot est organisé à la Maison des Citoyens en partenariat avec le CLAS et la MJC Pibrac le vendredi 11 avril 2025 à partir de 19h en salle Nina. \n\n\n\nRenseignement et inscription auprès du CLAS au 07 45 25 40 79 ou de la MJC Pibrac au 05 62 13 40 46.
URL:https://ville-pibrac.fr/evenement/ado-cuistot-4/
END:VEVENT
BEGIN:VEVENT
DTSTART;TZID=Europe/Paris:20250411T203000
DTEND;TZID=Europe/Paris:20250411T220000
DTSTAMP:20260423T042723
CREATED:20250116T074100Z
LAST-MODIFIED:20250116T074102Z
UID:10000275-1744403400-1744408800@ville-pibrac.fr
SUMMARY:CONFERENCE SUR LES PERTURBATEURS ENDOCRINIENS
DESCRIPTION:Conférence sur les perturbateurs endocriniens\, animée par Olivier Kah Drecteur de recherche émérite au CNRS\, et organisée Jardin Nature Pibrac le vendredi 11 avril 2025 à 20h30 en salle polyvalente et/ou en visio.
URL:https://ville-pibrac.fr/evenement/conference-sur-les-perturbateurs-endocriniens/
END:VEVENT
BEGIN:VEVENT
DTSTART;TZID=Europe/Paris:20250412T173000
DTEND;TZID=Europe/Paris:20250412T190000
DTSTAMP:20260423T042723
CREATED:20250328T134118Z
LAST-MODIFIED:20250328T134120Z
UID:10000355-1744479000-1744484400@ville-pibrac.fr
SUMMARY:JOURNÉE INTERNATIONALE DU VOL SPATIAL HABITÉ
DESCRIPTION:L’association Marussia organise une conférence dédiée à la journée internationale du vol spatial habité le samedi 12 avril 2025 à 17h30 à la salle du Quai.  \n\n\n\nRéservation obligatoire auprès de l’association Marussia : 06 03 76 22 59 – marussia.francoslave2019@gmail.com
URL:https://ville-pibrac.fr/evenement/journee-internationale-du-vol-spatial-habite/
END:VEVENT
BEGIN:VEVENT
DTSTART;TZID=Europe/Paris:20250414T090000
DTEND;TZID=Europe/Paris:20250416T170000
DTSTAMP:20260423T042723
CREATED:20250327T203155Z
LAST-MODIFIED:20250327T203159Z
UID:10000347-1744621200-1744822800@ville-pibrac.fr
SUMMARY:STAGE POP CULTURE
DESCRIPTION:La MJC Pibrac propose pendant ces vacances un stage Pop Culture de 3 jours mêlant danse K-POP le matin et cosplay l’après-midi avec les associations cheerlie’s crew et pass-poil créa’. Ce stage se déroulera du 14 au 16 avril de 9h à 17h au Lab’Art’ (Avenue du Bois de la Barthe).Ouvert à tous (adhérent/ non adhérent).
URL:https://ville-pibrac.fr/evenement/stage-pop-culture/
ATTACH;FMTTYPE=image/png:https://ville-pibrac.fr/wp-content/uploads/2025/03/stages-printemps-5.png
END:VEVENT
BEGIN:VEVENT
DTSTART;TZID=Europe/Paris:20250414T093000
DTEND;TZID=Europe/Paris:20250417T163000
DTSTAMP:20260423T042723
CREATED:20250327T205540Z
LAST-MODIFIED:20250327T205542Z
UID:10000350-1744623000-1744907400@ville-pibrac.fr
SUMMARY:STAGE THÉÂTRE POUR ENFANTS ET PRÉADOS
DESCRIPTION:L’association Scaramouche propose un stage de théâtre pour enfants et pré-ados durant ces vacances à la Salle du Quai (impasse de la Gare).Lundi 14 et mardi 15 avril 2025 de 9h30 à 16h30 pour les 7 à 10 ans. Mercredi 16 et jeudi 17 avril 2025 de 9h30 à 16h30 pour les 11 à 13 ans.Ouvert à tous et sur inscription : scaramouche.pibrac@gmail.com – 06 63 31 74 82
URL:https://ville-pibrac.fr/evenement/stage-theatre-pour-enfants-et-preados/
ATTACH;FMTTYPE=image/jpeg:https://ville-pibrac.fr/wp-content/uploads/2025/03/Stage-theatre-scaramouche-avril-2025.jpg
END:VEVENT
BEGIN:VEVENT
DTSTART;TZID=Europe/Paris:20250414T173000
DTEND;TZID=Europe/Paris:20250414T203000
DTSTAMP:20260423T042723
CREATED:20250117T102537Z
LAST-MODIFIED:20250117T102538Z
UID:10000281-1744651800-1744662600@ville-pibrac.fr
SUMMARY:ATELIER REPAIR CAFE
DESCRIPTION:Atelier Repair Café le lundi 14 avril 2025 de 17h30 à 20h30 à la salle polyvalente. \n\n\n\nLE REPAIR CAFÉ DE PIBRAC : NOUVEAU LIEU\, NOUVEAU JOUR\n\n\n\nQuand : lundi 14 avril 2025 de 17h30 à 20h30Lieu : Salle Polyvalente\, 6 Boulevard des écolesAtelier gratuit et ouvert à tous.Apporter vos objets cassés et apprenez à les réparer. \n\n\n\nAvec notre équipe de bénévoles\, on répare avec vous dans un esprit de bienveillance et de convivialité.Amenez vos petits appareils électroménagers\, outillages\, jouets\, audio et informatiques qui ne fonctionnent plus\, il est peut-être possible d’éviter la déchetterie !Et n’oubliez pas : Atelier réparation VéloRéparez au lieu de jeter ! \n\n\n\nLe Repair Café est fait pour vous si :– Votre appareil ne peut pas être réparé par un professionnel ou la réparation est trop onéreuse.– Vous avez envie de réparer vous-même mais vous ne savez pas comment vous y prendre.– Vous n’avez pas les bons outils.– Vous voulez faire des économies en prolongeant sa durée de vie.– Vous voulez diminuer votre empreinte carbone et les consommations de ressources.– Vous ne voulez pas remplir les déchetteries.– Partager un moment convivial et des savoirs. \n\n\n\nLe Repair Café de Pibrac est une des activités de l’association Pibraction Environnement.
URL:https://ville-pibrac.fr/evenement/atelier-repair-cafe-10/
ATTACH;FMTTYPE=image/jpeg:https://ville-pibrac.fr/wp-content/uploads/2023/08/repair_cafe.jpg
END:VEVENT
BEGIN:VEVENT
DTSTART;TZID=Europe/Paris:20250418T090000
DTEND;TZID=Europe/Paris:20250418T170000
DTSTAMP:20260423T042723
CREATED:20250327T201323Z
LAST-MODIFIED:20250327T201325Z
UID:10000345-1744966800-1744995600@ville-pibrac.fr
SUMMARY:FORMATION PREMIERS SECOURS CITOYEN
DESCRIPTION:La MJC Pibrac propose une formation au Premiers Secours Citoyen le vendredi 18 avril 2025 de 9h à 17h au Lab’Art’.
URL:https://ville-pibrac.fr/evenement/formation-premiers-secours-citoyen/
ATTACH;FMTTYPE=image/jpeg:https://ville-pibrac.fr/wp-content/uploads/2025/03/485131448_1076405574530132_2953089978028610738_n.jpg
END:VEVENT
BEGIN:VEVENT
DTSTART;TZID=Europe/Paris:20250418T103000
DTEND;TZID=Europe/Paris:20250418T120000
DTSTAMP:20260423T042723
CREATED:20250225T130718Z
LAST-MODIFIED:20250225T131406Z
UID:10000333-1744972200-1744977600@ville-pibrac.fr
SUMMARY:ATELIER SOCIO ESTHÉTIQUE
DESCRIPTION:Atelier socio-esthétique vendredi 18 avril 2025 de 10h30 à 12h à la Maison des Citoyens. \n\n\n\nCes ateliers de socio-esthétique sont à destination des Pibracais et Pibracaises en cours ou post-traitement\, toutes pathologies cancéreuses confondues.Des ateliers thématiques pour prendre soin de soi\, gérer les effets indésirables\, se détendre\, se sentir mieux dans son corps et dans sa tête. \n\n\n\nSur inscription auprès de la MDC :En ligne ou au 05 62 13 00 94
URL:https://ville-pibrac.fr/evenement/atelier-socio-esthetique-3/
ATTACH;FMTTYPE=image/jpeg:https://ville-pibrac.fr/wp-content/uploads/2025/02/A3-affiche-socio-esthetique-scaled.jpg
END:VEVENT
BEGIN:VEVENT
DTSTART;TZID=Europe/Paris:20250418T140000
DTEND;TZID=Europe/Paris:20250418T153000
DTSTAMP:20260423T042723
CREATED:20250225T130905Z
LAST-MODIFIED:20250225T130911Z
UID:10000334-1744984800-1744990200@ville-pibrac.fr
SUMMARY:ATELIER SOCIO ESTHÉTIQUE
DESCRIPTION:Atelier socio-esthétique vendredi 18 avril 2025 de 14h à 15h30 à la Maison des Citoyens. \n\n\n\nCes ateliers de socio-esthétique sont à destination des Pibracais et Pibracaises en cours ou post-traitement\, toutes pathologies cancéreuses confondues.Des ateliers thématiques pour prendre soin de soi\, gérer les effets indésirables\, se détendre\, se sentir mieux dans son corps et dans sa tête. \n\n\n\nSur inscription auprès de la MDC :En ligne ou au 05 62 13 00 94
URL:https://ville-pibrac.fr/evenement/atelier-socio-esthetique-4/
ATTACH;FMTTYPE=image/jpeg:https://ville-pibrac.fr/wp-content/uploads/2025/02/A3-affiche-socio-esthetique-scaled.jpg
END:VEVENT
BEGIN:VEVENT
DTSTART;TZID=Europe/Paris:20250419T090000
DTEND;TZID=Europe/Paris:20250419T210000
DTSTAMP:20260423T042723
CREATED:20250328T134556Z
LAST-MODIFIED:20250328T134558Z
UID:10000356-1745053200-1745096400@ville-pibrac.fr
SUMMARY:LES 3 PISTES
DESCRIPTION:Pibrac Roller Skating participe au Trophée des 3 Pistes dont la première course se déroulera le samedi 19 avril 2025 au Patinodrome dès 9h.
URL:https://ville-pibrac.fr/evenement/les-3-pistes/
END:VEVENT
BEGIN:VEVENT
DTSTART;TZID=Europe/Paris:20250419T090000
DTEND;TZID=Europe/Paris:20250421T180000
DTSTAMP:20260423T042723
CREATED:20250214T092424Z
LAST-MODIFIED:20250214T092426Z
UID:10000320-1745053200-1745258400@ville-pibrac.fr
SUMMARY:TOURNOI DE FOOTBALL
DESCRIPTION:L’US Pibrac Football organise un tournoi de football du 19 au 21 avril 2025 aux stade Gérard Migliore et à la Castanette. \n\n\n\nPlus d’informations auprès de l’US Pibrac Football : secretariat@uspibracfootball.fr
URL:https://ville-pibrac.fr/evenement/tournoi-de-football/
ATTACH;FMTTYPE=image/jpeg:https://ville-pibrac.fr/wp-content/uploads/2025/02/Tournoi-Us-Pibrac-Football.jpg
END:VEVENT
BEGIN:VEVENT
DTSTART;TZID=Europe/Paris:20250421T000000
DTEND;TZID=Europe/Paris:20250421T235959
DTSTAMP:20260423T042723
CREATED:20250214T093631Z
LAST-MODIFIED:20250214T093635Z
UID:10000321-1745193600-1745279999@ville-pibrac.fr
SUMMARY:CONCOURS DE PÉTANQUE
DESCRIPTION:La Pétanque Pibracaise organise un concours de Pétanque le lundi 21 avril 2025 au Boulodrome.
URL:https://ville-pibrac.fr/evenement/concours-de-petanque-2/
END:VEVENT
BEGIN:VEVENT
DTSTART;TZID=Europe/Paris:20250422T090000
DTEND;TZID=Europe/Paris:20250423T170000
DTSTAMP:20260423T042723
CREATED:20250327T203551Z
LAST-MODIFIED:20250327T203554Z
UID:10000348-1745312400-1745427600@ville-pibrac.fr
SUMMARY:STAGE CUISINE
DESCRIPTION:La MJC Pibrac propose pendant ces vacances un stage de cuisine pour cuisiner et manger de bons petits plats et pour apprendre à choisir les ingrédients en partenariat avec le traiteur fleurs de Sakura. Ce stage se déroulera du 22 au 23 avril 2025 de 9h à 17h à la Maison des Citoyens.Ouvert à tous (adhérent/ non adhérent).
URL:https://ville-pibrac.fr/evenement/stage-cuisine/
ATTACH;FMTTYPE=image/png:https://ville-pibrac.fr/wp-content/uploads/2025/03/stages-printemps-5.png
END:VEVENT
BEGIN:VEVENT
DTSTART;TZID=Europe/Paris:20250422T103000
DTEND;TZID=Europe/Paris:20250422T120000
DTSTAMP:20260423T042723
CREATED:20240823T095434Z
LAST-MODIFIED:20240823T095435Z
UID:10000234-1745317800-1745323200@ville-pibrac.fr
SUMMARY:ATELIER MUSICAL
DESCRIPTION:La Médiathèque propose un atelier musical le mardi 22 avril 2025 à 10h30. \n\n\n\nAnimé par Impulsion classique\, la « Brindille d’or » est l’histoire d’un jeune villageois rencontrant un aigle mystérieux. Ses péripéties témoignent que la bonté et l’attention aux autres comptent plus que la quête de richesse et de pouvoir.Ce conte\, lu par les deux musiciens\, est illustré par de courts morceaux joués à deux flûtes traversières.Il sera suivi d’un atelier. \n\n\n\nA partir de 8 ans. \n\n\n\nDurée : 1h30 (30 min pour le conte et 1h pour l’atelier) \n\n\n\nInformation auprès de la Médiathèque : 05 61 86 09 69 – mediatheque@mairie-pibrac.fr
URL:https://ville-pibrac.fr/evenement/atelier-musical/
END:VEVENT
BEGIN:VEVENT
DTSTART;TZID=Europe/Paris:20250424T090000
DTEND;TZID=Europe/Paris:20250425T170000
DTSTAMP:20260423T042723
CREATED:20250327T204715Z
LAST-MODIFIED:20250327T204717Z
UID:10000349-1745485200-1745600400@ville-pibrac.fr
SUMMARY:STAGE IA
DESCRIPTION:La MJC Pibrac propose pendant ces vacances un stage IA pour s’amuser et s’informer avec l’intelligence artificielle en partenariat avec l’association spécialisée Synapse.Ce stage se déroulera du 24 au 25 avril 2025 de 9h à 17h au Lab’Art’.Ouvert à tous (adhérent/ non adhérent).
URL:https://ville-pibrac.fr/evenement/stage-ia/
ATTACH;FMTTYPE=image/png:https://ville-pibrac.fr/wp-content/uploads/2025/03/stages-printemps-5.png
END:VEVENT
BEGIN:VEVENT
DTSTART;TZID=Europe/Paris:20250425T120000
DTEND;TZID=Europe/Paris:20250425T180000
DTSTAMP:20260423T042723
CREATED:20250328T135257Z
LAST-MODIFIED:20250328T135300Z
UID:10000357-1745582400-1745604000@ville-pibrac.fr
SUMMARY:REPAS DES AINÉS 2025
DESCRIPTION:La Ville de Pibrac organise chaque année le Repas des Ainés qui est offert aux Pibracais et Pibracaises de 67 ans et plus. Cette année\, ce repas aura lieu le vendredi 25 avril 2025 à 12h au City Stade (sous châpiteau). \n\n\n\nCe repas est sur inscription auprès du CCAS de Pibrac en vous munissant du coupon réponse présent dans le journal de la Ville\, l’Echo de l’Esplanade n°15\, reçu en boite aux lettres fin janvier 2025\, accompagné d’un justificatif de domicile\, de la photocopie d’une pièce d’identité et d’un chèque le cas échéant :– Par mail à ccas@mairie-pibrac.fr– Au bureau du CCAS du 7 au 11 avril 2025 de 9h à 12h et de 14h à 17h.– Par voie postale au CCAS : 10\, Avenue du Bois de la Barthe 31820 Pibrac. \n\n\n\nPour tout renseignement\, contactez le CCAS au 05 62 13 93 93.
URL:https://ville-pibrac.fr/evenement/repas-des-aines-2025/
END:VEVENT
BEGIN:VEVENT
DTSTART;TZID=Europe/Paris:20250429T143000
DTEND;TZID=Europe/Paris:20250429T170000
DTSTAMP:20260423T042723
CREATED:20250117T145627Z
LAST-MODIFIED:20250117T145629Z
UID:10000290-1745937000-1745946000@ville-pibrac.fr
SUMMARY:LOTO RAYON DE SOLEIL
DESCRIPTION:Le club des ainés\, Rayon de Soleil\, organise un loto le mardi 29 avril 2025 de 14h30 à 17h à la salle polyvalente.
URL:https://ville-pibrac.fr/evenement/loto-rayon-de-soleil-4/
END:VEVENT
END:VCALENDAR