BEGIN:VCALENDAR
VERSION:2.0
PRODID:-//Mairie de Pibrac - ECPv6.15.17.1//NONSGML v1.0//EN
CALSCALE:GREGORIAN
METHOD:PUBLISH
X-WR-CALNAME:Mairie de Pibrac
X-ORIGINAL-URL:https://ville-pibrac.fr
X-WR-CALDESC:Évènements pour Mairie de Pibrac
REFRESH-INTERVAL;VALUE=DURATION:PT1H
X-Robots-Tag:noindex
X-PUBLISHED-TTL:PT1H
BEGIN:VTIMEZONE
TZID:Europe/Paris
BEGIN:DAYLIGHT
TZOFFSETFROM:+0100
TZOFFSETTO:+0200
TZNAME:CEST
DTSTART:20230326T010000
END:DAYLIGHT
BEGIN:STANDARD
TZOFFSETFROM:+0200
TZOFFSETTO:+0100
TZNAME:CET
DTSTART:20231029T010000
END:STANDARD
BEGIN:DAYLIGHT
TZOFFSETFROM:+0100
TZOFFSETTO:+0200
TZNAME:CEST
DTSTART:20240331T010000
END:DAYLIGHT
BEGIN:STANDARD
TZOFFSETFROM:+0200
TZOFFSETTO:+0100
TZNAME:CET
DTSTART:20241027T010000
END:STANDARD
BEGIN:DAYLIGHT
TZOFFSETFROM:+0100
TZOFFSETTO:+0200
TZNAME:CEST
DTSTART:20250330T010000
END:DAYLIGHT
BEGIN:STANDARD
TZOFFSETFROM:+0200
TZOFFSETTO:+0100
TZNAME:CET
DTSTART:20251026T010000
END:STANDARD
END:VTIMEZONE
BEGIN:VEVENT
DTSTART;TZID=Europe/Paris:20241103T080000
DTEND;TZID=Europe/Paris:20241103T140000
DTSTAMP:20260425T170906
CREATED:20240730T150113Z
LAST-MODIFIED:20240730T150115Z
UID:10000190-1730620800-1730642400@ville-pibrac.fr
SUMMARY:COMPÉTITION DÉPARTEMENTALE DE TENNIS DE TABLE
DESCRIPTION:Compétition départementale de tennis de table le dimanche 3 novembre 2024 de 8h à 14h au grand gymnase de la Castanette avec l’association Tennis de Table Pibracais.
URL:https://ville-pibrac.fr/evenement/competition-departementale-de-tennis-de-table3/
END:VEVENT
BEGIN:VEVENT
DTSTART;TZID=Europe/Paris:20241103T140000
DTEND;TZID=Europe/Paris:20241103T190000
DTSTAMP:20260425T170906
CREATED:20240820T141512Z
LAST-MODIFIED:20240820T141515Z
UID:10000220-1730642400-1730660400@ville-pibrac.fr
SUMMARY:COMPÉTITION RÉGIONALE DE TENNIS DE TABLE
DESCRIPTION:Compétition régionale de tennis de table le dimanche 3 novembre 2024 de 14h à 19h au petit gymnase de la Castanette avec l’association Tennis de Table Pibracais.
URL:https://ville-pibrac.fr/evenement/competition-regionale-de-tennis-de-table-4/
END:VEVENT
BEGIN:VEVENT
DTSTART;TZID=Europe/Paris:20241108T203000
DTEND;TZID=Europe/Paris:20241108T223000
DTSTAMP:20260425T170906
CREATED:20240731T072352Z
LAST-MODIFIED:20240731T072354Z
UID:10000198-1731097800-1731105000@ville-pibrac.fr
SUMMARY:SOIRÉE AU TMP - XAVIER CONSTANTINE
DESCRIPTION: Le TMP vous propose un spectacle de magie\, Xavier Constantine\, le vendredi 8 novembre 2024 à 20h30. \n\n\n\nPrésentationhttps://www.youtube.com/embed/2w8TGiQgol4?feature=oembed \n\n\n\nRévélé dans l’émission « Incroyable Talent » sur M6 et dans le show international « Got Talent All Star »\, Xavier Constantine nous offre son nouveau spectacle\, en création au TMP ! \n\n\n\n« I.A. : Intelligence Artificielle – Magie Réelle » est une fantastique comédie cinématographique (transposée dans la réalité) qui explore la relation humaine avec sa perception du temps. \n\n\n\nUne véritable intelligence artificielle prend vie sur scène\, engageant le public dans des interactions uniques et drôles. \n\n\n\nRendez-vous pour une magnifique expérience où talents\, prouesses technologiques et holographies transcendent les frontières entre magie et réalité.
URL:https://ville-pibrac.fr/evenement/soiree-au-tmp-xavier-constantine/
ATTACH;FMTTYPE=image/jpeg:https://ville-pibrac.fr/wp-content/uploads/2024/07/XC-affv2w.jpg
END:VEVENT
BEGIN:VEVENT
DTSTART;TZID=Europe/Paris:20241110T080000
DTEND;TZID=Europe/Paris:20241110T170000
DTSTAMP:20260425T170906
CREATED:20240311T133004Z
LAST-MODIFIED:20240311T133006Z
UID:10000117-1731225600-1731258000@ville-pibrac.fr
SUMMARY:FESTI'JARDIN
DESCRIPTION:L’association Jardin Nature Pibrac organise Festi’Jardin le dimanche 10 novembre 2024 de 9h à 18h sur l’Esplanade Sainte-Germaine.
URL:https://ville-pibrac.fr/evenement/festijardin/
ATTACH;FMTTYPE=image/jpeg:https://ville-pibrac.fr/wp-content/uploads/2024/03/FestiJardin-2024.jpg
END:VEVENT
BEGIN:VEVENT
DTSTART;TZID=Europe/Paris:20241111T110000
DTEND;TZID=Europe/Paris:20241111T130000
DTSTAMP:20260425T170906
CREATED:20241030T143711Z
LAST-MODIFIED:20241030T143718Z
UID:10000243-1731322800-1731330000@ville-pibrac.fr
SUMMARY:COMMÉMORATION DU 11 NOVEMBRE 1918
DESCRIPTION:La commémoration de l’Armistice du 11 novembre 1918 aura lieu le lundi 11 novembre 2024 à 11h au Monument aux Morts.
URL:https://ville-pibrac.fr/evenement/commemoration-du-11-novembre-1918/
END:VEVENT
BEGIN:VEVENT
DTSTART;TZID=Europe/Paris:20241114T203000
DTEND;TZID=Europe/Paris:20241114T220000
DTSTAMP:20260425T170906
CREATED:20240731T072844Z
LAST-MODIFIED:20240731T073136Z
UID:10000199-1731616200-1731621600@ville-pibrac.fr
SUMMARY:SOIRÉE AU TMP - MARIANNE JAMES
DESCRIPTION:Le TMP vous propose un spectacle d’humour musical\, Marianne James\, le jeudi 14 novembre 2024 à 20h30. \n\n\n\nPrésentationChanter ! Il y a ceux qui savent et ceux qui ne savent pas… ceux qui pensent savoir… et ceux qui ignorent qu’ils savent. \n\n\n\nPour se révéler en tant que chanteur\, quoi de mieux que des cours de chants et qui de mieux\, que LA spécialiste de la voix en France : Marianne James ! \n\n\n\nLe public la connaît et l’aime pour son franc parler\, sa sensibilité. \n\n\n\nDans ce nouveau seule en scène musical\, interactif et irrésistiblement drôle\, elle endosse le rôle de professeure de chant et emmène les spectateurs à la découverte de leur voix. \n\n\n\nUne expérience hors norme où Marianne nous ouvre son cœur et nous transmet sa grande expérience vocale. \n\n\n\n« Tout est dans la voix » vous laissera des courbatures… de rire !!!
URL:https://ville-pibrac.fr/evenement/soiree-au-tmp-marianne-james/
ATTACH;FMTTYPE=image/jpeg:https://ville-pibrac.fr/wp-content/uploads/2024/07/affiche-tournee-hd-w600.jpg
END:VEVENT
BEGIN:VEVENT
DTSTART;TZID=Europe/Paris:20241116T093000
DTEND;TZID=Europe/Paris:20241116T170000
DTSTAMP:20260425T170906
CREATED:20241030T153434Z
LAST-MODIFIED:20241030T154516Z
UID:10000244-1731749400-1731776400@ville-pibrac.fr
SUMMARY:SORTIE ADOS AU FESTIVAL BD COLOMIERS
DESCRIPTION:La MJC propose une sortie Ados au Festival de la BD à Colomiers le samedi 16 novembre 2024. \n\n\n\nRDV à 9h30 au Lab’Art’\, retour à 17h.
URL:https://ville-pibrac.fr/evenement/sortie-ados-au-festival-bd-colomiers/
END:VEVENT
BEGIN:VEVENT
DTSTART;TZID=Europe/Paris:20241117T080000
DTEND;TZID=Europe/Paris:20241117T140000
DTSTAMP:20260425T170906
CREATED:20240730T150334Z
LAST-MODIFIED:20240730T150336Z
UID:10000191-1731830400-1731852000@ville-pibrac.fr
SUMMARY:COMPÉTITION DÉPARTEMENTALE DE TENNIS DE TABLE
DESCRIPTION:Compétition départementale de tennis de table le dimanche 17 novembre 2024 de 8h à 14h au grand gymnase de la Castanette avec l’association Tennis de Table Pibracais.
URL:https://ville-pibrac.fr/evenement/competition-departementale-de-tennis-de-table4/
END:VEVENT
BEGIN:VEVENT
DTSTART;TZID=Europe/Paris:20241117T140000
DTEND;TZID=Europe/Paris:20241117T190000
DTSTAMP:20260425T170906
CREATED:20240820T141616Z
LAST-MODIFIED:20240820T141618Z
UID:10000221-1731852000-1731870000@ville-pibrac.fr
SUMMARY:COMPÉTITION RÉGIONALE DE TENNIS DE TABLE
DESCRIPTION:Compétition régionale de tennis de table le dimanche 17 novembre 2024 de 14h à 19h au petit gymnase de la Castanette avec l’association Tennis de Table Pibracais.
URL:https://ville-pibrac.fr/evenement/competition-regionale-de-tennis-de-table-5/
END:VEVENT
BEGIN:VEVENT
DTSTART;TZID=Europe/Paris:20241118T173000
DTEND;TZID=Europe/Paris:20241118T203000
DTSTAMP:20260425T170906
CREATED:20241115T152424Z
LAST-MODIFIED:20241115T152433Z
UID:10000249-1731951000-1731961800@ville-pibrac.fr
SUMMARY:ATELIER REPAIR CAFE
DESCRIPTION:Atelier Repair Café le lundi 18 novembre 2024 de 17h30 à 20h30 à la salle polyvalente. \n\n\n\nLE REPAIR CAFÉ DE PIBRAC : NOUVEAU LIEU\, NOUVEAU JOUR\n\n\n\nQuand : Chaque 2ème lundi du mois de 17h30 à 20h30Lieu : Salle Polyvalente\, 6 Boulevard des écolesAtelier gratuit et ouvert à tous.Apporter vos objets cassés et apprenez à les réparer. \n\n\n\nAvec notre équipe de bénévoles\, on répare avec vous dans un esprit de bienveillance et de convivialité.Amenez vos petits appareils électroménagers\, outillages\, jouets\, audio et informatiques qui ne fonctionnent plus\, il est peut-être possible d’éviter la déchetterie !Et n’oubliez pas : Atelier réparation VéloRéparez au lieu de jeter ! \n\n\n\nLe Repair Café est fait pour vous si :– Votre appareil ne peut pas être réparé par un professionnel ou la réparation est trop onéreuse.– Vous avez envie de réparer vous-même mais vous ne savez pas comment vous y prendre.– Vous n’avez pas les bons outils.– Vous voulez faire des économies en prolongeant sa durée de vie.– Vous voulez diminuer votre empreinte carbone et les consommations de ressources.– Vous ne voulez pas remplir les déchetteries.– Partager un moment convivial et des savoirs. \n\n\n\nLe Repair Café de Pibrac est une des activités de l’association Pibraction Environnement.
URL:https://ville-pibrac.fr/evenement/atelier-repair-cafe-7/
ATTACH;FMTTYPE=image/jpeg:https://ville-pibrac.fr/wp-content/uploads/2023/08/repair_cafe.jpg
END:VEVENT
BEGIN:VEVENT
DTSTART;TZID=Europe/Paris:20241120T170000
DTEND;TZID=Europe/Paris:20241120T190000
DTSTAMP:20260425T170906
CREATED:20241114T083240Z
LAST-MODIFIED:20241114T083511Z
UID:10000248-1732122000-1732129200@ville-pibrac.fr
SUMMARY:CAFÉ DES PARENTS MON ENFANT EST DIFFÉRENT
DESCRIPTION:La Maison des Citoyens\, en partenariat avec le collectif Autisme et la CAF\, proposent un café des parents « Mon enfant est différent » le mercredi 20 novembre de 17h à 19h à la MDC. \n\n\n\n\nCet atelier est dédié aux parents et aux enfants concernés par l’autisme et les troubles du neurodéveloppement. Un temps pour vos enfants et vous afin d’échanger au sein d’un groupe de parole et se ressourcer à l’aide de la sophrologie. \n\n\n\n\nAtelier sur inscription en ligne ou auprès de la Maison des Citoyens au 05 62 13 00 94.
URL:https://ville-pibrac.fr/evenement/cafe-des-parents-mon-enfant-est-different/
ATTACH;FMTTYPE=image/jpeg:https://ville-pibrac.fr/wp-content/uploads/2024/11/Cafe-des-parents-scaled.jpg
END:VEVENT
BEGIN:VEVENT
DTSTART;TZID=Europe/Paris:20241122T200000
DTEND;TZID=Europe/Paris:20241122T213000
DTSTAMP:20260425T170906
CREATED:20241108T101812Z
LAST-MODIFIED:20241108T102436Z
UID:10000247-1732305600-1732311000@ville-pibrac.fr
SUMMARY:PIBRAC FRATERNELLE - CONFÉRENCE
DESCRIPTION:Conférence sur  l’Appropriation\, partage et fabrique de l’espace public. Vers un périurbain plus convivial ? par Lionel Rougé\, Université de Toulouse 2 Jean Jaurès et chercheur au Laboratoire interdisciplinaire\, solidarités\, sociétés et territoires (LISST)). \n\n\n\nVendredi 22 novembre 2024 à 20h en salle du Conseil municipal. \n\n\n\nDescriptif de la conférence : les espaces périurbains\, ou campagnes urbaines\, sont souvent considérés comme pauvres en espaces publics ; et si tant est qu’il y en est ils apparaissent parfois comme les supports de logiques exclusives. Pourtant\, à l’aune de la diversification des parcours de vie et face aux enjeux écologiques\, ne peut-non pas repérer des usages et pratiques d’espaces qui donnent vie au territoire et à des localités en recomposition? Sont-ils révélateurs de lieux et de liens propices à une fabrique plus collective et commune de l’aménagement de ces territoires ?
URL:https://ville-pibrac.fr/evenement/pibrac-fraternelle-conference/
ATTACH;FMTTYPE=image/jpeg:https://ville-pibrac.fr/wp-content/uploads/2024/04/Visuel-RS-Pibrac-Fraternelle-scaled.jpg
END:VEVENT
BEGIN:VEVENT
DTSTART;TZID=Europe/Paris:20241123T100000
DTEND;TZID=Europe/Paris:20241123T163000
DTSTAMP:20260425T170906
CREATED:20241121T103102Z
LAST-MODIFIED:20241121T103458Z
UID:10000251-1732356000-1732379400@ville-pibrac.fr
SUMMARY:MARCHE DE NOËL ANGLAIS
DESCRIPTION:Le Marché de Noël Anglais a lieu le samedi 23 novembre 2024 de 10h à 16h30 à la salle Polyvalente organisé par l’association TWIG.
URL:https://ville-pibrac.fr/evenement/marche-de-noel-anglais-2/
ATTACH;FMTTYPE=image/jpeg:https://ville-pibrac.fr/wp-content/uploads/2024/11/Marche-de-Noel-Anglais-2024.jpg
END:VEVENT
BEGIN:VEVENT
DTSTART;TZID=Europe/Paris:20241123T210000
DTEND;TZID=Europe/Paris:20241123T223000
DTSTAMP:20260425T170906
CREATED:20241030T154249Z
LAST-MODIFIED:20241030T154251Z
UID:10000246-1732395600-1732401000@ville-pibrac.fr
SUMMARY:CE SOIR AU LAB’ART’ : UNE PETITE DOULEUR
DESCRIPTION:Dans Ce soir au Lab’Art’\, la MJC Pibrac propose Une petite douleur par la compagnie La Réplique le samedi 23 novembre 2024 à 21h.
URL:https://ville-pibrac.fr/evenement/ce-soir-au-labart-une-petite-douleur/
ATTACH;FMTTYPE=image/jpeg:https://ville-pibrac.fr/wp-content/uploads/2024/10/Compagnie-la-Replique-Toulouse.jpg
END:VEVENT
BEGIN:VEVENT
DTSTART;TZID=Europe/Paris:20241124T140000
DTEND;TZID=Europe/Paris:20241124T180000
DTSTAMP:20260425T170906
CREATED:20241030T153853Z
LAST-MODIFIED:20241030T153855Z
UID:10000245-1732456800-1732471200@ville-pibrac.fr
SUMMARY:FETE DU JEU
DESCRIPTION:La MJC Pibrac organise la Fête du Jeu le dimanche 24 novembre 2024 à la salle polyvalente de 14h à 18h.
URL:https://ville-pibrac.fr/evenement/fete-du-jeu/
ATTACH;FMTTYPE=image/jpeg:https://ville-pibrac.fr/wp-content/uploads/2024/10/jeu-1.jpg
END:VEVENT
BEGIN:VEVENT
DTSTART;TZID=Europe/Paris:20241124T170000
DTEND;TZID=Europe/Paris:20241124T180000
DTSTAMP:20260425T170906
CREATED:20241121T105023Z
LAST-MODIFIED:20241121T105027Z
UID:10000252-1732467600-1732471200@ville-pibrac.fr
SUMMARY:CONCERT RÉTROSPECTIVE
DESCRIPTION:Le groupe Vocal Renaissance de Toulouse fête ses 40 ans avec le concert Rétrospective a lieu le dimanche 24 novembre à 17h à l’église de Pibrac.
URL:https://ville-pibrac.fr/evenement/concert-retrospective/
ATTACH;FMTTYPE=image/jpeg:https://ville-pibrac.fr/wp-content/uploads/2024/11/4N-ans-du-groupe-renaissance-de-Toulouse-scaled.jpg
END:VEVENT
BEGIN:VEVENT
DTSTART;TZID=Europe/Paris:20241126T080000
DTEND;TZID=Europe/Paris:20241201T170000
DTSTAMP:20260425T170906
CREATED:20240311T133254Z
LAST-MODIFIED:20241108T102236Z
UID:10000118-1732608000-1733072400@ville-pibrac.fr
SUMMARY:FESTIVAL PYRÉNICIMES
DESCRIPTION:Le Festival Pyrénicimes se déroulera su Pibrac du 26 novembre au 1er décembre 2024. \n\n\n\n\nProgramme Festival Pyrénicimes 2024Télécharger
URL:https://ville-pibrac.fr/evenement/festival-pyrenicimes/
ATTACH;FMTTYPE=image/jpeg:https://ville-pibrac.fr/wp-content/uploads/2024/03/Affiche-Pyrenicimes-2024.jpg
END:VEVENT
END:VCALENDAR