BEGIN:VCALENDAR
VERSION:2.0
PRODID:-//Mairie de Pibrac - ECPv6.15.17.1//NONSGML v1.0//EN
CALSCALE:GREGORIAN
METHOD:PUBLISH
X-ORIGINAL-URL:https://ville-pibrac.fr
X-WR-CALDESC:Évènements pour Mairie de Pibrac
REFRESH-INTERVAL;VALUE=DURATION:PT1H
X-Robots-Tag:noindex
X-PUBLISHED-TTL:PT1H
BEGIN:VTIMEZONE
TZID:Europe/Paris
BEGIN:DAYLIGHT
TZOFFSETFROM:+0100
TZOFFSETTO:+0200
TZNAME:CEST
DTSTART:20230326T010000
END:DAYLIGHT
BEGIN:STANDARD
TZOFFSETFROM:+0200
TZOFFSETTO:+0100
TZNAME:CET
DTSTART:20231029T010000
END:STANDARD
BEGIN:DAYLIGHT
TZOFFSETFROM:+0100
TZOFFSETTO:+0200
TZNAME:CEST
DTSTART:20240331T010000
END:DAYLIGHT
BEGIN:STANDARD
TZOFFSETFROM:+0200
TZOFFSETTO:+0100
TZNAME:CET
DTSTART:20241027T010000
END:STANDARD
BEGIN:DAYLIGHT
TZOFFSETFROM:+0100
TZOFFSETTO:+0200
TZNAME:CEST
DTSTART:20250330T010000
END:DAYLIGHT
BEGIN:STANDARD
TZOFFSETFROM:+0200
TZOFFSETTO:+0100
TZNAME:CET
DTSTART:20251026T010000
END:STANDARD
END:VTIMEZONE
BEGIN:VEVENT
DTSTART;TZID=Europe/Paris:20241004T200000
DTEND;TZID=Europe/Paris:20241004T223000
DTSTAMP:20260425T183929
CREATED:20240731T071854Z
LAST-MODIFIED:20240731T071856Z
UID:10000197-1728072000-1728081000@ville-pibrac.fr
SUMMARY:SOIRÉE AU TMP - GIORDA
DESCRIPTION:Le TMP vous propose un spectacle d’Hypnose\, Giorda\, le vendredi 4 octobre 2024 à 20h30. \n\n\n\nPrésentationQue vous soyez réceptifs ou pas\, Giorda saura vous hypnotiser !Préparez-vous à penser autrement !Sur scène ou dans le public\, osez vivre une expérience extraordinaire et inoubliable.Vos sens seront décuplés\, vos perceptions renversées\, vos certitudes bouleversées.Avec habileté et bienveillance\, Giorda défie les croyances conventionnelles et vous invite à découvrir une nouvelle réalité.Osez repousser vos limites et venez réveiller la personne exceptionnelle que vous êtes.C’est votre spectacle\, il sera unique\, comme vous !
URL:https://ville-pibrac.fr/evenement/soiree-au-tmp-giorda/
ATTACH;FMTTYPE=image/jpeg:https://ville-pibrac.fr/wp-content/uploads/2024/07/GIORDA_40X60_NEUTRE-w.jpg
END:VEVENT
BEGIN:VEVENT
DTSTART;TZID=Europe/Paris:20241005T100000
DTEND;TZID=Europe/Paris:20241006T170000
DTSTAMP:20260425T183929
CREATED:20240822T124527Z
LAST-MODIFIED:20240823T090505Z
UID:10000225-1728122400-1728234000@ville-pibrac.fr
SUMMARY:BOURSE AUX VETEMENTS JOUETS ET PUERICULTURE
DESCRIPTION:La Bourse de vêtements\, jouets et puériculture\, organisé par l’association Les Clins d’Oeil\, aura lieu le samedi 5 octobre de 10h à 18h et le dimanche le 6 octobre 2024 de 10h à 12h et de 14h à 17h à la salle polyvalente.
URL:https://ville-pibrac.fr/evenement/bourse-aux-vetements/
ATTACH;FMTTYPE=image/jpeg:https://ville-pibrac.fr/wp-content/uploads/2024/08/Bourse-AH-2024-flyer-RECTO.jpg
END:VEVENT
BEGIN:VEVENT
DTSTART;TZID=Europe/Paris:20241005T210000
DTEND;TZID=Europe/Paris:20241005T220000
DTSTAMP:20260425T183929
CREATED:20240925T085449Z
LAST-MODIFIED:20240925T090452Z
UID:10000237-1728162000-1728165600@ville-pibrac.fr
SUMMARY:CE SOIR AU LAB'ART' : FIN DE SERVICE
DESCRIPTION:Dans Ce soir au Lab’Art’\, la MJC Pibrac propose Fin de service par le Théâtre de l’AscenCeur le samedi 5 octobre 2024 à 21h. \n\n\n\n\nDans sa villa isolée de bord de mer\, Madame\, exigeante\, impétueuse et capricieuse comble l’ennui en humiliant son fidèle domestique Gork\, qui ne manque pas de répartie. \n\n\n\nAu travers de terribles joutes verbales parfois odieuses\, souvent drôles\, on perçoit la connivence d’une longue cohabitation dans un jeu de rôles\, où les règlements de compte et les jeux puérils masquent les désillusions. \n\n\n\nDans ce huis clos grinçant mêlant subtilement humour et suspense\, tout sera dévoilé ce soir… vieilles blessures et secrets enfouis…  \n\n\n\nQui sortira vainqueur de ce combat ultime ?
URL:https://ville-pibrac.fr/evenement/ce-soir-au-labart-fin-de-service/
ATTACH;FMTTYPE=image/jpeg:https://ville-pibrac.fr/wp-content/uploads/2024/09/fin-de-service.jpg
END:VEVENT
BEGIN:VEVENT
DTSTART;TZID=Europe/Paris:20241006T080000
DTEND;TZID=Europe/Paris:20241006T140000
DTSTAMP:20260425T183929
CREATED:20240730T145757Z
LAST-MODIFIED:20240730T145759Z
UID:10000188-1728201600-1728223200@ville-pibrac.fr
SUMMARY:COMPÉTITION DÉPARTEMENTALE DE TENNIS DE TABLE
DESCRIPTION:Compétition départementale de tennis de table le dimanche 6 octobre 2024 de 8h à 14h au grand gymnase de la Castanette avec l’association Tennis de Table Pibracais.
URL:https://ville-pibrac.fr/evenement/competition-departementale-de-tennis-de-table/
END:VEVENT
BEGIN:VEVENT
DTSTART;TZID=Europe/Paris:20241006T140000
DTEND;TZID=Europe/Paris:20241006T190000
DTSTAMP:20260425T183929
CREATED:20240820T125721Z
LAST-MODIFIED:20240820T125729Z
UID:10000218-1728223200-1728241200@ville-pibrac.fr
SUMMARY:COMPÉTITION RÉGIONALE DE TENNIS DE TABLE
DESCRIPTION:Compétition régionale de tennis de table le dimanche 6 octobre 2024 de 14h à 19h au petit gymnase de la Castanette avec l’association Tennis de Table Pibracais.
URL:https://ville-pibrac.fr/evenement/competition-regionale-de-tennis-de-table-2/
END:VEVENT
BEGIN:VEVENT
DTSTART;TZID=Europe/Paris:20241010T203000
DTEND;TZID=Europe/Paris:20241010T220000
DTSTAMP:20260425T183929
CREATED:20240731T130702Z
LAST-MODIFIED:20240731T130704Z
UID:10000207-1728592200-1728597600@ville-pibrac.fr
SUMMARY:CONFÉRENCE JARDIN NATURE PIBRAC
DESCRIPTION:Conférence suivie d’un débat\, Devenir des nanoparticules dans les plantes\, avec l’association Jardin Nature Pibrac\, le jeudi 10 octobre 2024 à 20h30 à la salle polyvalente et en visio.Animée par Astrid Avellan et Camille Larue \, Chargées de recherche  CNRS Géosciences Environnement Toulouse
URL:https://ville-pibrac.fr/evenement/conference-jardin-nature-pibrac-3/
END:VEVENT
BEGIN:VEVENT
DTSTART;TZID=Europe/Paris:20241011T183000
DTEND;TZID=Europe/Paris:20241013T170000
DTSTAMP:20260425T183929
CREATED:20240311T132547Z
LAST-MODIFIED:20240628T132539Z
UID:10000116-1728671400-1728838800@ville-pibrac.fr
SUMMARY:FESTIVAL DE LA MEKANIK DU RIRE
DESCRIPTION:Le Festival de la Mekanik du Rire aura lieu du 11 au 13 octobre 2024 sur l’Esplanade Sainte-Germaine. \n\n\n\nDevenir bénévole : www.lamekanikdurire.com/soutenir/b%C3%A9n%C3%A9volat/ \n\n\n\nÊtre hébergeurs d’artistes : www.lamekanikdurire.com/soutenir/h%C3%A9bergement/
URL:https://ville-pibrac.fr/evenement/festival-de-la-mekanik-du-rire/
ATTACH;FMTTYPE=image/jpeg:https://ville-pibrac.fr/wp-content/uploads/2024/03/bandeau-Mairie-Mekanik-2024.jpg
END:VEVENT
BEGIN:VEVENT
DTSTART;TZID=Europe/Paris:20241014T173000
DTEND;TZID=Europe/Paris:20241014T203000
DTSTAMP:20260425T183929
CREATED:20241002T152006Z
LAST-MODIFIED:20241002T152007Z
UID:10000242-1728927000-1728937800@ville-pibrac.fr
SUMMARY:ATELIER REPAIR CAFÉ
DESCRIPTION:Atelier Repair Café le lundi 14 octobre 2024 de 17h30 à 20h30 à la salle polyvalente. \n\n\n\nLE REPAIR CAFÉ DE PIBRAC : NOUVEAU LIEU\, NOUVEAU JOUR\n\n\n\nQuand : Chaque 2ème lundi du mois de 17h30 à 20h30Lieu : Salle Polyvalente\, 6 Boulevard des écolesAtelier gratuit et ouvert à tous.Apporter vos objets cassés et apprenez à les réparer. \n\n\n\nAvec notre équipe de bénévoles\, on répare avec vous dans un esprit de bienveillance et de convivialité.Amenez vos petits appareils électroménagers\, outillages\, jouets\, audio et informatiques qui ne fonctionnent plus\, il est peut-être possible d’éviter la déchetterie !Et n’oubliez pas : Atelier réparation VéloRéparez au lieu de jeter ! \n\n\n\nLe Repair Café est fait pour vous si :– Votre appareil ne peut pas être réparé par un professionnel ou la réparation est trop onéreuse.– Vous avez envie de réparer vous-même mais vous ne savez pas comment vous y prendre.– Vous n’avez pas les bons outils.– Vous voulez faire des économies en prolongeant sa durée de vie.– Vous voulez diminuer votre empreinte carbone et les consommations de ressources.– Vous ne voulez pas remplir les déchetteries.– Partager un moment convivial et des savoirs. \n\n\n\nLe Repair Café de Pibrac est une des activités de l’association Pibraction Environnement.
URL:https://ville-pibrac.fr/evenement/atelier-repair-cafe-6/
ATTACH;FMTTYPE=image/jpeg:https://ville-pibrac.fr/wp-content/uploads/2023/08/repair_cafe.jpg
END:VEVENT
BEGIN:VEVENT
DTSTART;TZID=Europe/Paris:20241016T163000
DTEND;TZID=Europe/Paris:20241016T170000
DTSTAMP:20260425T183929
CREATED:20240731T134215Z
LAST-MODIFIED:20240731T134217Z
UID:10000214-1729096200-1729098000@ville-pibrac.fr
SUMMARY:CHIFFONNADE
DESCRIPTION:La Médiathèque Esplanade des Mots vous propose un spectacle\, Chiffonnade\, le mercredi 16 octobre 2024 à 16h30 dans la salle du Petit-Théâtre. \n\n\n\nPrésentation :Chiffonnade est une chorégraphie ayant pour matière première l’étoffe\, celle que l’on peut toucher\, froisser\, palper\, plisser ou déchirer\, celle dont on se vêt ou se déguise et qui conditionne notre image au regard de l’autre. \n\n\n\nDes plis\, des replis\, des vagues de tissus et de chiffons\, des douceurs de costumes contre lesquels on a bien envie de se blottir. Mais Chiffonnade parle aussi d’émancipation\, d’une chrysalide d’enfant qui ne cesse de grandir pour se muer en adulte. \n\n\n\nSur scène\, une sphère aux allures de coquillage\, de planète abrite un personnage et une multitude de tissus : tour à tour partenaires de danse et matières à construire\, ils guident l’écriture chorégraphique. Grandir c’est se construire\, c’est savoir partir et prendre le large. De bouts de chiffons se créent de nouveaux mondes. \n\n\n\nDe 1 à 5 ansDurée : 30 minSpectacle gratuit sur réservation auprès de la Médiathèque : mediatheque@mairie-pibrac.fr / 05 61 86 09 69
URL:https://ville-pibrac.fr/evenement/chiffonnade/
END:VEVENT
BEGIN:VEVENT
DTSTART;TZID=Europe/Paris:20241017T183000
DTEND;TZID=Europe/Paris:20241017T200000
DTSTAMP:20260425T183929
CREATED:20240924T080000Z
LAST-MODIFIED:20241011T083626Z
UID:10000236-1729189800-1729195200@ville-pibrac.fr
SUMMARY:ASSEMBLÉE PIBRACAISE
DESCRIPTION:Une Assemblée Pibracaise se tiendra le jeudi 17 octobre 2024 à 18h30 en salle polyvalente. Cette assemblée est ouverte à tous les Pibracais afin d’échanger et de partager sur leur quotidien avec des élus de la ville.
URL:https://ville-pibrac.fr/evenement/assemblee-pibracaise/
ATTACH;FMTTYPE=image/jpeg:https://ville-pibrac.fr/wp-content/uploads/2024/09/Assembllee_Pibracaise_2024_Proposition_6.jpg
END:VEVENT
BEGIN:VEVENT
DTSTART;TZID=Europe/Paris:20241019T100000
DTEND;TZID=Europe/Paris:20241019T160000
DTSTAMP:20260425T183929
CREATED:20241002T151544Z
LAST-MODIFIED:20241002T151545Z
UID:10000241-1729332000-1729353600@ville-pibrac.fr
SUMMARY:REPAIR CAFÉ GÉANT NON-STOP À PIBRAC
DESCRIPTION:Dans le cadre de La Journée Nationale de la Réparation\, le Repair Café de Pibrac organise\, le samedi 19 octobre 2024\, un atelier de réparation géant et non-stop de 10h00 à 16h00 à la salle polyvalente.Amenez vos petits appareils électroménagers\, outillages\, jouets\, audio et informatiques qui ne fonctionnent plus\, il est peut-être possible d’éviter la déchetterie ! \n\n\n\nLes bénévoles du Repair Café vous aideront et vous apprendrons à les réparer. \n\n\n\nEn plus des postes de réparation habituels\, nous avons prévu des ateliers spécifiques qui pourraient vous intéresser comme: \n\n\n\n\nRéparation des pièces en matière plastique (soudage\, agrafage)\n\n\n\nImpression 3D\n\n\n\nAtelier/Débat sur l’obsolescence programmée\n\n\n\n\n \n\n\n\nLe Repair Café est fait pour vous si :  \n\n\n\n\nVotre appareil ne peut pas être réparé par un professionnel ou la réparation est trop onéreuse.\n\n\n\nVous avez envie de réparer vous-même mais vous ne savez pas comment vous y prendre.\n\n\n\nVous n’avez pas les bons outils.\n\n\n\nVous voulez faire des économies en prolongeant sa durée de vie.\n\n\n\nVous voulez diminuer votre empreinte carbone et les consommations de ressources.\n\n\n\nVous ne voulez pas remplir les déchetteries.\n\n\n\nPartager un moment convivial et des savoirs.
URL:https://ville-pibrac.fr/evenement/repair-cafe-geant-non-stop-a-pibrac/
ATTACH;FMTTYPE=image/jpeg:https://ville-pibrac.fr/wp-content/uploads/2024/10/jnr.jpg
END:VEVENT
BEGIN:VEVENT
DTSTART;TZID=Europe/Paris:20241020T080000
DTEND;TZID=Europe/Paris:20241020T140000
DTSTAMP:20260425T183929
CREATED:20240730T145930Z
LAST-MODIFIED:20240730T145932Z
UID:10000189-1729411200-1729432800@ville-pibrac.fr
SUMMARY:COMPÉTITION DÉPARTEMENTALE DE TENNIS DE TABLE
DESCRIPTION:Compétition départementale de tennis de table le dimanche 20 octobre 2024 de 8h à 14h au grand gymnase de la Castanette avec l’association Tennis de Table Pibracais.
URL:https://ville-pibrac.fr/evenement/competition-departementale-de-tennis-de-table2/
END:VEVENT
BEGIN:VEVENT
DTSTART;TZID=Europe/Paris:20241020T140000
DTEND;TZID=Europe/Paris:20241020T190000
DTSTAMP:20260425T183929
CREATED:20240820T133040Z
LAST-MODIFIED:20240820T133043Z
UID:10000219-1729432800-1729450800@ville-pibrac.fr
SUMMARY:COMPÉTITION RÉGIONALE DE TENNIS DE TABLE
DESCRIPTION:Compétition régionale de tennis de table le dimanche 20 octobre 2024 de 14h à 19h au petit gymnase de la Castanette avec l’association Tennis de Table Pibracais.
URL:https://ville-pibrac.fr/evenement/competition-regionale-de-tennis-de-table-3/
END:VEVENT
BEGIN:VEVENT
DTSTART;TZID=Europe/Paris:20241029T103000
DTEND;TZID=Europe/Paris:20241029T123000
DTSTAMP:20260425T183929
CREATED:20240731T134742Z
LAST-MODIFIED:20240731T134744Z
UID:10000215-1730197800-1730205000@ville-pibrac.fr
SUMMARY:ATELIER HALLOWEEN
DESCRIPTION:La Médiathèque propose un atelier Halloween le mardi 29 octobre 2024 sur site de 10h30 à 12h30. De 7 à 12 ans. Les enfants seront invités à créer une composition sur le thème du cabinet de curiosités\, en assemblant une variété d’éléments à leur disposition. Les enfants seront guidés par Isabelle Guillen Moreau pour mettre en scène leur collection\, leur permettant ainsi de se mettre dans la peau d’un collectionneur d’objets étranges. Ils auront des exemples pour s’inspirer.Ils pourront explorer différents matériaux pour élaborer une esthétique inquiétante.Frissons garantis !
URL:https://ville-pibrac.fr/evenement/atelier-halloween/
END:VEVENT
END:VCALENDAR